BEGIN:VCALENDAR
VERSION:2.0
PRODID:-//hacksw/handcal//NONSGML v1.0//EN
CALSCALE:GREGORIAN
BEGIN:VTIMEZONE
TZID:Europe/Berlin
X-LIC-LOCATION:Europe/Berlin
BEGIN:DAYLIGHT
TZOFFSETFROM:+0100
TZOFFSETTO:+0200
TZNAME:CEST
DTSTART:19700329T020000
RRULE:FREQ=YEARLY;BYDAY=-1SU;BYMONTH=3
END:DAYLIGHT
BEGIN:STANDARD
TZOFFSETFROM:+0200
TZOFFSETTO:+0100
TZNAME:CET
DTSTART:19701025T030000
RRULE:FREQ=YEARLY;BYDAY=-1SU;BYMONTH=10
END:STANDARD
END:VTIMEZONE
BEGIN:VEVENT
DTEND;TZID=Europe/Berlin:20260704T170000
UID:69ed0486c5f95
DTSTAMP:20260425T201430
LOCATION:Proberaum\, Grüner Weg 2a\, 27793 Wildeshausen
DESCRIPTION:Seid ihr bereit für einen spannenden Nachmittag voller Musik und Action? Wir begeben uns gemeinsam auf eine Schnitzeljagd\, bei der ihr an verschiedenen Stationen knifflige Rätsel lösen müsst. Nur wer als Team die richtigen Lösungen findet\, kommt dem Geheimnis der Schatzkiste immer näher. Was sich darin wohl verbirgt? \r\nNach der erfolgreichen Suche werdet ihr selbst zu Entdeckern. Ihr dürft alle Instrumente unseres Blasorchesters nach Herzenslust ausprobieren und testen. Vielleicht entdeckt ihr dabei ja euer neues Lieblingshobby! Wir freuen uns auf einen großartigen Nachmittag mit euch.
URL;VALUE=URI:https://www.unser-ferienprogramm.de/wildeshausen/veranstaltung.php?id=313818
SUMMARY:Abenteuer Blasorchester: Die musikalische Rätselreise
DTSTART;TZID=Europe/Berlin:20260704T130000
END:VEVENT

END:VCALENDAR
