BEGIN:VCALENDAR
VERSION:2.0
PRODID:-//hacksw/handcal//NONSGML v1.0//EN
CALSCALE:GREGORIAN
BEGIN:VTIMEZONE
TZID:Europe/Berlin
X-LIC-LOCATION:Europe/Berlin
BEGIN:DAYLIGHT
TZOFFSETFROM:+0100
TZOFFSETTO:+0200
TZNAME:CEST
DTSTART:19700329T020000
RRULE:FREQ=YEARLY;BYDAY=-1SU;BYMONTH=3
END:DAYLIGHT
BEGIN:STANDARD
TZOFFSETFROM:+0200
TZOFFSETTO:+0100
TZNAME:CET
DTSTART:19701025T030000
RRULE:FREQ=YEARLY;BYDAY=-1SU;BYMONTH=10
END:STANDARD
END:VTIMEZONE
BEGIN:VEVENT
DTEND;TZID=Europe/Berlin:20260703T180000
UID:69ed046c2f900
DTSTAMP:20260425T201404
LOCATION:Beachplatz neben dem Krandel
DESCRIPTION:Handball im Sand zum Kennenlernen\, im Anschluss gibt es eine Bratwurst\, für Getränke ist gesorgt.\r\nDie Angabe von Allergien oder vegetarischer Kost auf Wunsch ist mit der Anmeldung erforderlich.\r\nSportzeug\, keine Schuhe\, Kleidung zum Überziehen bei kälterer Witterung.
URL;VALUE=URI:https://www.unser-ferienprogramm.de/wildeshausen/veranstaltung.php?id=311968
SUMMARY:Handball im Sand
DTSTART;TZID=Europe/Berlin:20260703T150000
END:VEVENT

END:VCALENDAR
