BEGIN:VCALENDAR
VERSION:2.0
PRODID:-//hacksw/handcal//NONSGML v1.0//EN
CALSCALE:GREGORIAN
BEGIN:VTIMEZONE
TZID:Europe/Berlin
X-LIC-LOCATION:Europe/Berlin
BEGIN:DAYLIGHT
TZOFFSETFROM:+0100
TZOFFSETTO:+0200
TZNAME:CEST
DTSTART:19700329T020000
RRULE:FREQ=YEARLY;BYDAY=-1SU;BYMONTH=3
END:DAYLIGHT
BEGIN:STANDARD
TZOFFSETFROM:+0200
TZOFFSETTO:+0100
TZNAME:CET
DTSTART:19701025T030000
RRULE:FREQ=YEARLY;BYDAY=-1SU;BYMONTH=10
END:STANDARD
END:VTIMEZONE
BEGIN:VEVENT
DTEND;TZID=Europe/Berlin:20260704T180000
UID:69ed0490325f1
DTSTAMP:20260425T201440
LOCATION:Wildeshauser Straße 15  Wildeshausen/Altona
DESCRIPTION: \r\nSchießen mit Druckluftgewehr und Kleinkalibergewehr am\r\nSamstag den 04.07.2026 im Vereinsheim des Schützenvereines Altona Wildeshauser Straße 15 gegenüber vom Hotel Altona\r\n \r\nUhrzeit: von 14.00 Uhr bis 18:00 Uhr\r\n \r\nÜbungszeit mit Druckluftgewehr KK-Gewehr auf 10 m und 50 m \r\n \r\nAlter der Jugendlichen am 04.07.2026 ab 12 Jahre mit Unterschrift der Einverständniserklärung\r\n \r\nmitzubringen ist: festes Schuhwerk bitte keine Flip-Flops und 5\,00 € für Munition\, Getränke und Essen sowie die Einverständniserklärung mit Unterschrift der Eltern\r\n \r\nTeilnehmerzahl: maximal 12 Jugendliche\r\n \r\nmit freundlichen Grüßen\r\nAndreas Reige 2. Vorsitzender SV Altona\r\n \r\nAnlage: Einverständniserklärung für Druckluft-Waffen und KK-Waffen\r\n\r\n
URL;VALUE=URI:https://www.unser-ferienprogramm.de/wildeshausen/veranstaltung.php?id=311667
SUMMARY:Schießen mit Druckluftgewehr und Kleinkalibergewehr - SV Altona
DTSTART;TZID=Europe/Berlin:20260704T140000
END:VEVENT

END:VCALENDAR
