BEGIN:VCALENDAR
VERSION:2.0
PRODID:-//hacksw/handcal//NONSGML v1.0//EN
CALSCALE:GREGORIAN
BEGIN:VTIMEZONE
TZID:Europe/Berlin
X-LIC-LOCATION:Europe/Berlin
BEGIN:DAYLIGHT
TZOFFSETFROM:+0100
TZOFFSETTO:+0200
TZNAME:CEST
DTSTART:19700329T020000
RRULE:FREQ=YEARLY;BYDAY=-1SU;BYMONTH=3
END:DAYLIGHT
BEGIN:STANDARD
TZOFFSETFROM:+0200
TZOFFSETTO:+0100
TZNAME:CET
DTSTART:19701025T030000
RRULE:FREQ=YEARLY;BYDAY=-1SU;BYMONTH=10
END:STANDARD
END:VTIMEZONE
BEGIN:VEVENT
DTEND;TZID=Europe/Berlin:20260713T180000
UID:69ed04b3d3b74
DTSTAMP:20260425T201515
LOCATION:Wildeshausen
DESCRIPTION:Krimi-Spaziergang durch die Innenstadt von Wildeshausen - WERDE ZUM DETEKTIV!\r\n\r\nDu hast Lust auf ein spannendes Abenteuer? Dann mach mit! Gemeinsam gehen wir auf Spurensuche\, lösen knifflige Rätsel und versuchen einen geheimnisvollen Fall zu knacken.\r\n\r\nIn kleinen Gruppen machen wir uns auf die Spurensuche. Am Ende wartet die große Auflösung und ein gemeinsamer Abschluss.\r\n\r\n\r\n
URL;VALUE=URI:https://www.unser-ferienprogramm.de/wildeshausen/veranstaltung.php?id=311665
SUMMARY:KRIMI-Spaziergang in Wildeshausen
DTSTART;TZID=Europe/Berlin:20260713T140000
END:VEVENT

END:VCALENDAR
