BEGIN:VCALENDAR
VERSION:2.0
PRODID:-//hacksw/handcal//NONSGML v1.0//EN
CALSCALE:GREGORIAN
BEGIN:VTIMEZONE
TZID:Europe/Berlin
X-LIC-LOCATION:Europe/Berlin
BEGIN:DAYLIGHT
TZOFFSETFROM:+0100
TZOFFSETTO:+0200
TZNAME:CEST
DTSTART:19700329T020000
RRULE:FREQ=YEARLY;BYDAY=-1SU;BYMONTH=3
END:DAYLIGHT
BEGIN:STANDARD
TZOFFSETFROM:+0200
TZOFFSETTO:+0100
TZNAME:CET
DTSTART:19701025T030000
RRULE:FREQ=YEARLY;BYDAY=-1SU;BYMONTH=10
END:STANDARD
END:VTIMEZONE
BEGIN:VEVENT
DTEND;TZID=Europe/Berlin:20260704T163000
UID:69ed0461b9937
DTSTAMP:20260425T201353
LOCATION:Widukindhalle Wildeshausen
DESCRIPTION:Wir erkunden die schöne Umgebung von Wildeshausen mit dem Rad. Die Strecke ist ca. 25 Kilometer lang. Da wir viele Wald- und Wiesenwege fahren\, wäre ein Mountainbike sinnvoll\, aber keine Pflicht. Wer hat\, sollte auf jeden Fall einen Fahrradhelm mitnehmen.
URL;VALUE=URI:https://www.unser-ferienprogramm.de/wildeshausen/veranstaltung.php?id=311534
SUMMARY:Mit dem Rad rund um Wildeshausen
DTSTART;TZID=Europe/Berlin:20260704T140000
END:VEVENT

END:VCALENDAR
