BEGIN:VCALENDAR
VERSION:2.0
PRODID:-//hacksw/handcal//NONSGML v1.0//EN
CALSCALE:GREGORIAN
BEGIN:VTIMEZONE
TZID:Europe/Berlin
X-LIC-LOCATION:Europe/Berlin
BEGIN:DAYLIGHT
TZOFFSETFROM:+0100
TZOFFSETTO:+0200
TZNAME:CEST
DTSTART:19700329T020000
RRULE:FREQ=YEARLY;BYDAY=-1SU;BYMONTH=3
END:DAYLIGHT
BEGIN:STANDARD
TZOFFSETFROM:+0200
TZOFFSETTO:+0100
TZNAME:CET
DTSTART:19701025T030000
RRULE:FREQ=YEARLY;BYDAY=-1SU;BYMONTH=10
END:STANDARD
END:VTIMEZONE
BEGIN:VEVENT
DTEND;TZID=Europe/Berlin:20260709T180000
UID:69ed05a7af85b
DTSTAMP:20260425T201919
LOCATION:Wildeshausen
DESCRIPTION:Wer hat Lust mal das Paddeln oder das Ruder auszuprobieren? Dann kommt doch einfach zu unserer Ferienpass Aktion. Wir wollen mit euch einen Nachmittag auf und vielleicht auch in der Hunte verbringen. Zum Abschluss laden wir euch auf eine Bratwurst vom Grill ein. \r\nWir freuen uns auf euch.
URL;VALUE=URI:https://www.unser-ferienprogramm.de/wildeshausen/veranstaltung.php?id=311327
SUMMARY:Paddel und Ruder Spaß auf der Hunte 1 - WSV
DTSTART;TZID=Europe/Berlin:20260709T140000
END:VEVENT

END:VCALENDAR
