BEGIN:VCALENDAR
VERSION:2.0
PRODID:-//hacksw/handcal//NONSGML v1.0//EN
CALSCALE:GREGORIAN
BEGIN:VTIMEZONE
TZID:Europe/Berlin
X-LIC-LOCATION:Europe/Berlin
BEGIN:DAYLIGHT
TZOFFSETFROM:+0100
TZOFFSETTO:+0200
TZNAME:CEST
DTSTART:19700329T020000
RRULE:FREQ=YEARLY;BYDAY=-1SU;BYMONTH=3
END:DAYLIGHT
BEGIN:STANDARD
TZOFFSETFROM:+0200
TZOFFSETTO:+0100
TZNAME:CET
DTSTART:19701025T030000
RRULE:FREQ=YEARLY;BYDAY=-1SU;BYMONTH=10
END:STANDARD
END:VTIMEZONE
BEGIN:VEVENT
DTEND;TZID=Europe/Berlin:20260704T180000
UID:69ed03ea7057b
DTSTAMP:20260425T201154
LOCATION:Bauerschaft Lüerte 5a\, 27793 Wildeshausen 
DESCRIPTION:Hallo liebe Ferien-Fans!\r\n\r\nHabt ihr Lust\, eure Treffsicherheit unter Beweis zu stellen und einen Nachmittag voller Action zu erleben? Dann seid ihr bei uns genau richtig! Der Schützenverein Lüerte-Holzhausen lädt euch herzlich zu unserer Ferienspaß-Aktion ein.\r\n\r\nWir haben ein buntes Programm für euch vorbereitet\, bei dem ihr verschiedene Disziplinen ausprobieren könnt:\r\n- Lichtpunktschießen: Trainiert eure Konzentration mit moderner Technik – ganz ohne Munition!\r\n- Bogenschießen: Fühlt euch wie Robin Hood und findet heraus\, ob ihr das Gold in der Mitte trefft.\r\n- Blasrohrschießen: Wer hätte gedacht\, dass Pusten so viel Spaß machen kann? \r\n\r\nNachdem wir gemeinsam gezielt und gelacht haben\, lassen wir den Tag gemütlich ausklingen. Wir werfen den Grill an und genießen zusammen eine leckere Bratwurst. 
URL;VALUE=URI:https://www.unser-ferienprogramm.de/wildeshausen/veranstaltung.php?id=310589
SUMMARY:Licht-\, Bogen- und Blasrohrschießen - SV Lüerte
DTSTART;TZID=Europe/Berlin:20260704T150000
END:VEVENT

END:VCALENDAR
