BEGIN:VCALENDAR
VERSION:2.0
PRODID:-//hacksw/handcal//NONSGML v1.0//EN
CALSCALE:GREGORIAN
BEGIN:VTIMEZONE
TZID:Europe/Berlin
X-LIC-LOCATION:Europe/Berlin
BEGIN:DAYLIGHT
TZOFFSETFROM:+0100
TZOFFSETTO:+0200
TZNAME:CEST
DTSTART:19700329T020000
RRULE:FREQ=YEARLY;BYDAY=-1SU;BYMONTH=3
END:DAYLIGHT
BEGIN:STANDARD
TZOFFSETFROM:+0200
TZOFFSETTO:+0100
TZNAME:CET
DTSTART:19701025T030000
RRULE:FREQ=YEARLY;BYDAY=-1SU;BYMONTH=10
END:STANDARD
END:VTIMEZONE
BEGIN:VEVENT
DTEND;TZID=Europe/Berlin:20260711T170000
UID:69ed030770c1f
DTSTAMP:20260425T200807
LOCATION:Vereinsheim Schützenverein Bühren\, Bühren 3a\, Wildeshausen
DESCRIPTION:Gemeinsam wollen wir den Umgang mit dem Lichtpunktgewehr erlernen und die ersten Schießversuche unternehmen. \r\nZusätzlich zu dem Schießen mit dem Lichtpunktgewehr erwartet euch ein bunter Nachmittag mit verschiedenen Spielen sowie zum Abschluss eine leckere Wurst vom Grill.
URL;VALUE=URI:https://www.unser-ferienprogramm.de/wildeshausen/veranstaltung.php?id=310271
SUMMARY:Schießen mit dem Lichtpunktgewehr - SV Bühren
DTSTART;TZID=Europe/Berlin:20260711T140000
END:VEVENT

END:VCALENDAR
