BEGIN:VCALENDAR
VERSION:2.0
PRODID:-//hacksw/handcal//NONSGML v1.0//EN
CALSCALE:GREGORIAN
BEGIN:VTIMEZONE
TZID:Europe/Berlin
X-LIC-LOCATION:Europe/Berlin
BEGIN:DAYLIGHT
TZOFFSETFROM:+0100
TZOFFSETTO:+0200
TZNAME:CEST
DTSTART:19700329T020000
RRULE:FREQ=YEARLY;BYDAY=-1SU;BYMONTH=3
END:DAYLIGHT
BEGIN:STANDARD
TZOFFSETFROM:+0200
TZOFFSETTO:+0100
TZNAME:CET
DTSTART:19701025T030000
RRULE:FREQ=YEARLY;BYDAY=-1SU;BYMONTH=10
END:STANDARD
END:VTIMEZONE
BEGIN:VEVENT
DTEND;TZID=Europe/Berlin:20260709T150000
UID:69ed0418f0adf
DTSTAMP:20260425T201240
LOCATION:Bahnhof Wildeshausen
DESCRIPTION:Wir fahren nach Bremen\, wo wir das Brettspiel „Mr. X“ in echt spielen!  Ihr lauft und fahrt mit den öffentlichen Verkehrsmitteln in Kleingruppen mit euren Leitern durch Bremen\, um Mr. X zu finden. Doch Vorsicht: Mr. X versucht euch zu entkommen\, das bedeutet ihr müsst euch mit anderen Gruppen absprechen und gut überlegen\, wohin ihr fahrt\, um ihn zu erwischen!
URL;VALUE=URI:https://www.unser-ferienprogramm.de/wildeshausen/veranstaltung.php?id=307470
SUMMARY:Mr. X - (KJG)
DTSTART;TZID=Europe/Berlin:20260709T093000
END:VEVENT

END:VCALENDAR
