BEGIN:VCALENDAR
VERSION:2.0
PRODID:-//hacksw/handcal//NONSGML v1.0//EN
CALSCALE:GREGORIAN
BEGIN:VTIMEZONE
TZID:Europe/Berlin
X-LIC-LOCATION:Europe/Berlin
BEGIN:DAYLIGHT
TZOFFSETFROM:+0100
TZOFFSETTO:+0200
TZNAME:CEST
DTSTART:19700329T020000
RRULE:FREQ=YEARLY;BYDAY=-1SU;BYMONTH=3
END:DAYLIGHT
BEGIN:STANDARD
TZOFFSETFROM:+0200
TZOFFSETTO:+0100
TZNAME:CET
DTSTART:19701025T030000
RRULE:FREQ=YEARLY;BYDAY=-1SU;BYMONTH=10
END:STANDARD
END:VTIMEZONE
BEGIN:VEVENT
DTEND;TZID=Europe/Berlin:20260711T170000
UID:69ed034566b64
DTSTAMP:20260425T200909
LOCATION:Auecamp Wildeshausen (www.darccamp.de) 		Aumühle 75\, 27793 Wildeshausen 		(Hier stehen die Funkanlagen und Antennen) 		Melden\, vorne bei der DARC Fahne.
DESCRIPTION:Ein sehr spannender Nachmittag an der Wildeshauser AUECAMP  Funkstation wobei Du vielleicht sogar mit Australien oder Amerika funkst.\r\n\r\nMorse deinem Namen.\r\nNenne deinen Namen im Internationalen Buchstabier-Alphabet.\r\nErfahre etwas über die Technik.\r\n\r\nFinde unsere elektronischen Füchse in einer Fuchsjagd.\r\n
URL;VALUE=URI:https://www.unser-ferienprogramm.de/wildeshausen/veranstaltung.php?id=304849
SUMMARY:Mit einem Stück Draht um die Welt.  Amateurfunk weltweit und ins All. 
DTSTART;TZID=Europe/Berlin:20260711T130000
END:VEVENT

END:VCALENDAR
