BEGIN:VCALENDAR
VERSION:2.0
PRODID:-//hacksw/handcal//NONSGML v1.0//EN
CALSCALE:GREGORIAN
BEGIN:VTIMEZONE
TZID:Europe/Berlin
X-LIC-LOCATION:Europe/Berlin
BEGIN:DAYLIGHT
TZOFFSETFROM:+0100
TZOFFSETTO:+0200
TZNAME:CEST
DTSTART:19700329T020000
RRULE:FREQ=YEARLY;BYDAY=-1SU;BYMONTH=3
END:DAYLIGHT
BEGIN:STANDARD
TZOFFSETFROM:+0200
TZOFFSETTO:+0100
TZNAME:CET
DTSTART:19701025T030000
RRULE:FREQ=YEARLY;BYDAY=-1SU;BYMONTH=10
END:STANDARD
END:VTIMEZONE
BEGIN:VEVENT
DTEND;TZID=Europe/Berlin:20260527T160000
UID:69eafce5b5ad4
DTSTAMP:20260424T071725
LOCATION:Naab
DESCRIPTION:Gemeinsam mit der Jugendarbeit Lappersdorf und der Jugendarbeit Nittendorf organisieren wir auch dieses Jahr wieder einen Kanu-Tagesausflug auf der idyllischen Naab.\r\nWir starten in Burglengenfeld (Basketballfeld in der Friedhofstraße) und verbringen den Vormittag im Kanu Richtung Kallmünz. Das ruhige Gewässer der Naab ist Lebensraum einer Vielzahl an Tieren vom Bieber bis hin zum Graureiher. Mit etwas Glück können wir sie in ihrem natürlichen Umfeld beobachten.\r\nAm Jugendzeltplatz Zaar bei Kallmünz endet die Tour und ihr habt genügend Zeit\, um den Nachmittag am Badestrand und auf dem Spielfeld zu verbringen. Wir bringen auch einiges an Equipment mit\, damit Euch sicherlich nicht langweilig wird.
URL;VALUE=URI:https://www.unser-ferienprogramm.de/wenzenbach/veranstaltung.php?id=315244
SUMMARY:Kanu-Tour
DTSTART;TZID=Europe/Berlin:20260527T090000
END:VEVENT

END:VCALENDAR
