BEGIN:VCALENDAR
VERSION:2.0
PRODID:-//hacksw/handcal//NONSGML v1.0//EN
CALSCALE:GREGORIAN
BEGIN:VTIMEZONE
TZID:Europe/Berlin
X-LIC-LOCATION:Europe/Berlin
BEGIN:DAYLIGHT
TZOFFSETFROM:+0100
TZOFFSETTO:+0200
TZNAME:CEST
DTSTART:19700329T020000
RRULE:FREQ=YEARLY;BYDAY=-1SU;BYMONTH=3
END:DAYLIGHT
BEGIN:STANDARD
TZOFFSETFROM:+0200
TZOFFSETTO:+0100
TZNAME:CET
DTSTART:19701025T030000
RRULE:FREQ=YEARLY;BYDAY=-1SU;BYMONTH=10
END:STANDARD
END:VTIMEZONE
BEGIN:VEVENT
DTEND;TZID=Europe/Berlin:20260402T160000
UID:69eb1d38d8fd5
DTSTAMP:20260424T093520
LOCATION:Jugendherberge Augsburg
DESCRIPTION:Du hast Lust auf coole Ferien\, neue Erlebnisse und eine tolle Zeit mit anderen Kindern und Jugendlichen? Dann komm gemeinsam mit der Jugendpflege Wenzenbach\, Mintraching und Lappersdorf für 4 Tage nach Augsburg!\r\n\r\nIn Augsburg erwartet dich ein abwechslungsreiches Programm: Wir besuchen das Bahnmuseum und entdecken beeindruckende Züge aus vergangenen Zeiten. Bei einer Stadtführung lernst du Augsburg auf eine interessante und lebendige Art kennen. Im wunderschönen Botanischen Garten gibt es jede Menge Natur zu entdecken und Platz zum Staunen.\r\n\r\nFür Action ist natürlich auch gesorgt: Beim Bowling kannst du dich richtig austoben und gemeinsam Spaß haben. Ein Highlight ist der Besuch der Sternwarte\, wo wir mehr über Sterne\, Planeten und die Geheimnisse unserer Erde erfahren. Außerdem bleibt genügend Zeit für Stadtbummel\, Shoppen und das gemeinsame Erkunden der Stadt.\r\n\r\nKomm mit\, erlebe Augsburg und sammle Erinnerungen\, die bleiben!\r\n\r\nWichtiger Hinweis: Die Aktionen werden im Vorfeld organisiert. Es kann jedoch zu Änderungen kommen\, wenn die Aktion bereits ausgebucht ist oder das Wetter eine sichere Durchführung nicht erlaubt. In diesen Fällen werden alternative Aktionen angeboten. Genaue Informationen erhalten Sie nach erfolgreicher Anmeldung nach Anmeldeschluss in einem separaten Elternbrief.
URL;VALUE=URI:https://www.unser-ferienprogramm.de/wenzenbach/veranstaltung.php?id=301581
SUMMARY:Städtereise- Augsburg erleben!
DTSTART;TZID=Europe/Berlin:20260330T083000
END:VEVENT

END:VCALENDAR
