BEGIN:VCALENDAR
VERSION:2.0
PRODID:-//hacksw/handcal//NONSGML v1.0//EN
CALSCALE:GREGORIAN
BEGIN:VTIMEZONE
TZID:Europe/Berlin
X-LIC-LOCATION:Europe/Berlin
BEGIN:DAYLIGHT
TZOFFSETFROM:+0100
TZOFFSETTO:+0200
TZNAME:CEST
DTSTART:19700329T020000
RRULE:FREQ=YEARLY;BYDAY=-1SU;BYMONTH=3
END:DAYLIGHT
BEGIN:STANDARD
TZOFFSETFROM:+0200
TZOFFSETTO:+0100
TZNAME:CET
DTSTART:19701025T030000
RRULE:FREQ=YEARLY;BYDAY=-1SU;BYMONTH=10
END:STANDARD
END:VTIMEZONE
BEGIN:VEVENT
DTEND;TZID=Europe/Berlin:20250829T130000
UID:69eb22e2c7e45
DTSTAMP:20260424T095930
LOCATION:Jugendfreizeitstätte Burg Regeldorff
DESCRIPTION:-Wir befinden uns aktuell in der Planung\r\n\r\nZelten\, Lagerfeuer und jede Menge Spiel und Spaß. Auch dieses Jahr fahren wir wieder mit der Jugendarbeit Lappersdorf ins Zeltlager. Fünf Tage tolle Erlebnisse und spannende Abenteuer gemeinsam mit euren Freunden.\r\nBrettspiele\, Outdoor-Games\, Bastelangebote\, Lagerfeuer und Baden gehen sind nur einige unserer Highlights.\r\n\r\nDieses Jahr zelten wir am Gelände der Jugendfreizeitstätte "Burg Regeldorff". Das ca. einen Hektar große Freizeitgelände ist Teil des ehemaligen Regendorfer Schlosses. Es erwarten euch 4 miteinander verbundene Zeltplatzwiesen\, welche für Spiele und Freizeit genutzt werden können. Eine große Feuerstelle mit zweistufiger Sitzgelegenheit und vieles mehr. 
URL;VALUE=URI:https://www.unser-ferienprogramm.de/wenzenbach/veranstaltung.php?id=251842
SUMMARY:Zeltlager 2025
DTSTART;TZID=Europe/Berlin:20250825T090000
END:VEVENT

END:VCALENDAR
