BEGIN:VCALENDAR
VERSION:2.0
PRODID:-//hacksw/handcal//NONSGML v1.0//EN
CALSCALE:GREGORIAN
BEGIN:VTIMEZONE
TZID:Europe/Berlin
X-LIC-LOCATION:Europe/Berlin
BEGIN:DAYLIGHT
TZOFFSETFROM:+0100
TZOFFSETTO:+0200
TZNAME:CEST
DTSTART:19700329T020000
RRULE:FREQ=YEARLY;BYDAY=-1SU;BYMONTH=3
END:DAYLIGHT
BEGIN:STANDARD
TZOFFSETFROM:+0200
TZOFFSETTO:+0100
TZNAME:CET
DTSTART:19701025T030000
RRULE:FREQ=YEARLY;BYDAY=-1SU;BYMONTH=10
END:STANDARD
END:VTIMEZONE
BEGIN:VEVENT
DTEND;TZID=Europe/Berlin:20261030T163000
UID:69e5ae6e5a280
DTSTAMP:20260420T064118
LOCATION:Haus der Jugendarbeit in Beutelsbach
DESCRIPTION:Gsälz\, Mauldasch und Brezga – tolle Spezialitäten aus dem Schwäbischen. \r\n\r\nWir entdecken unser Zuhause mit dem Blick auf traditionelles Essen\, abwechslungsreiche Ausflüge in die Umgebung und jede Menge Spiel\, Spaß und Bewegung.\r\n\r\nAlso: „Lassed ons gugga was ds Ländle so drauf hod”\r\n(Anmeldeschluss 10.6.2026)
URL;VALUE=URI:https://www.unser-ferienprogramm.de/weinstadt/veranstaltung.php?id=239724
SUMMARY:Kinder-Herbst-Woche KiHeWo 2026
DTSTART;TZID=Europe/Berlin:20261026T090000
END:VEVENT

END:VCALENDAR
