BEGIN:VCALENDAR
VERSION:2.0
PRODID:-//hacksw/handcal//NONSGML v1.0//EN
CALSCALE:GREGORIAN
BEGIN:VTIMEZONE
TZID:Europe/Berlin
X-LIC-LOCATION:Europe/Berlin
BEGIN:DAYLIGHT
TZOFFSETFROM:+0100
TZOFFSETTO:+0200
TZNAME:CEST
DTSTART:19700329T020000
RRULE:FREQ=YEARLY;BYDAY=-1SU;BYMONTH=3
END:DAYLIGHT
BEGIN:STANDARD
TZOFFSETFROM:+0200
TZOFFSETTO:+0100
TZNAME:CET
DTSTART:19701025T030000
RRULE:FREQ=YEARLY;BYDAY=-1SU;BYMONTH=10
END:STANDARD
END:VTIMEZONE
BEGIN:VEVENT
DTEND;TZID=Europe/Berlin:20260814T163000
UID:69e5ada097ef2
DTSTAMP:20260420T063752
LOCATION:Prinz-Eugen-Halle in Großheppach
DESCRIPTION:Mach dich bereit für eine spannende Reise in den Themen Raumfahrt\, Technik und Fahrzeuge!\r\nIn diesem Sommer verwandelt sich unser Gelände in eine Welt voller Erfindergeist\, Abenteuer und Entdeckungen. Gemeinsam bauen\, tüfteln und experimentieren wir rund um alles was rollt\, fliegt oder schwebt.\r\n\r\nNeben kreativen Workshops erwarten dich natürlich auch jede Menge Spiel\, Spaß\, Bewegung und coole Ausflüge.\r\nAlso: Anschnallen\, Countdown starten – und los geht’s!\r\n_____________________________________________________________________________________________________________\r\n!!Wichtig !! Wichtig !! Wichtig !!\r\nEs wird dieses Jahr keinen Bustransfer geben - die Kinder müssen selbstständig in die Prinz-Eugen-Halle gebracht werden.\r\n_____________________________________________________________________________________________________________\r\n\r\nAnmeldung bis 28.02.2026 möglich - die Auslosung bei Überbuchung erfolgt direkt im Anschluss am 2.3.2026.\r\nElternabend 15.07.2026 19.00 Haus der Jugendarbeit \r\n\r\n
URL;VALUE=URI:https://www.unser-ferienprogramm.de/weinstadt/veranstaltung.php?id=239720
SUMMARY:Stadtranderholung STARA 2026
DTSTART;TZID=Europe/Berlin:20260803T090000
END:VEVENT

END:VCALENDAR
