BEGIN:VCALENDAR
VERSION:2.0
PRODID:-//hacksw/handcal//NONSGML v1.0//EN
CALSCALE:GREGORIAN
BEGIN:VTIMEZONE
TZID:Europe/Berlin
X-LIC-LOCATION:Europe/Berlin
BEGIN:DAYLIGHT
TZOFFSETFROM:+0100
TZOFFSETTO:+0200
TZNAME:CEST
DTSTART:19700329T020000
RRULE:FREQ=YEARLY;BYDAY=-1SU;BYMONTH=3
END:DAYLIGHT
BEGIN:STANDARD
TZOFFSETFROM:+0200
TZOFFSETTO:+0100
TZNAME:CET
DTSTART:19701025T030000
RRULE:FREQ=YEARLY;BYDAY=-1SU;BYMONTH=10
END:STANDARD
END:VTIMEZONE
BEGIN:VEVENT
DTEND;TZID=Europe/Berlin:20260803T160000
UID:69e7859aeae04
DTSTAMP:20260421T161138
LOCATION:Mehrgenerationenhaus in der Burgau\, Willi-Ernst-Ring 27
DESCRIPTION:Ihre Kinder werden von angehenden Erzieh*innen oder Kinderpfleger*innen umfangreich betreut. Mit einem gemeinsamen Frühstück beginnt ein aktiver Tag mit Ihren Kindern. Es wird gebastelt\, gespielt\, evtl. zum Baden ins Badria gegangen und vieles mehr rund um Wasserburg.
URL;VALUE=URI:https://www.unser-ferienprogramm.de/wasserburg/veranstaltung.php?id=102877
SUMMARY:Ferienbetreuung für die ganze Woche
DTSTART;TZID=Europe/Berlin:20260803T073000
END:VEVENT


BEGIN:VEVENT
DTEND;TZID=Europe/Berlin:20260804T160000
UID:69e7859aeae231
DTSTAMP:20260421T161138
LOCATION:Mehrgenerationenhaus in der Burgau\, Willi-Ernst-Ring 27
DESCRIPTION:Ihre Kinder werden von angehenden Erzieh*innen oder Kinderpfleger*innen umfangreich betreut. Mit einem gemeinsamen Frühstück beginnt ein aktiver Tag mit Ihren Kindern. Es wird gebastelt\, gespielt\, evtl. zum Baden ins Badria gegangen und vieles mehr rund um Wasserburg.
URL;VALUE=URI:https://www.unser-ferienprogramm.de/wasserburg/veranstaltung.php?id=102877
SUMMARY:Ferienbetreuung für die ganze Woche
DTSTART;TZID=Europe/Berlin:20260804T073000
END:VEVENT


BEGIN:VEVENT
DTEND;TZID=Europe/Berlin:20260805T160000
UID:69e7859aeae2f2
DTSTAMP:20260421T161138
LOCATION:Mehrgenerationenhaus in der Burgau\, Willi-Ernst-Ring 27
DESCRIPTION:Ihre Kinder werden von angehenden Erzieh*innen oder Kinderpfleger*innen umfangreich betreut. Mit einem gemeinsamen Frühstück beginnt ein aktiver Tag mit Ihren Kindern. Es wird gebastelt\, gespielt\, evtl. zum Baden ins Badria gegangen und vieles mehr rund um Wasserburg.
URL;VALUE=URI:https://www.unser-ferienprogramm.de/wasserburg/veranstaltung.php?id=102877
SUMMARY:Ferienbetreuung für die ganze Woche
DTSTART;TZID=Europe/Berlin:20260805T073000
END:VEVENT


BEGIN:VEVENT
DTEND;TZID=Europe/Berlin:20260806T160000
UID:69e7859aeae3a3
DTSTAMP:20260421T161138
LOCATION:Mehrgenerationenhaus in der Burgau\, Willi-Ernst-Ring 27
DESCRIPTION:Ihre Kinder werden von angehenden Erzieh*innen oder Kinderpfleger*innen umfangreich betreut. Mit einem gemeinsamen Frühstück beginnt ein aktiver Tag mit Ihren Kindern. Es wird gebastelt\, gespielt\, evtl. zum Baden ins Badria gegangen und vieles mehr rund um Wasserburg.
URL;VALUE=URI:https://www.unser-ferienprogramm.de/wasserburg/veranstaltung.php?id=102877
SUMMARY:Ferienbetreuung für die ganze Woche
DTSTART;TZID=Europe/Berlin:20260806T073000
END:VEVENT


BEGIN:VEVENT
DTEND;TZID=Europe/Berlin:20260807T160000
UID:69e7859aeae434
DTSTAMP:20260421T161138
LOCATION:Mehrgenerationenhaus in der Burgau\, Willi-Ernst-Ring 27
DESCRIPTION:Ihre Kinder werden von angehenden Erzieh*innen oder Kinderpfleger*innen umfangreich betreut. Mit einem gemeinsamen Frühstück beginnt ein aktiver Tag mit Ihren Kindern. Es wird gebastelt\, gespielt\, evtl. zum Baden ins Badria gegangen und vieles mehr rund um Wasserburg.
URL;VALUE=URI:https://www.unser-ferienprogramm.de/wasserburg/veranstaltung.php?id=102877
SUMMARY:Ferienbetreuung für die ganze Woche
DTSTART;TZID=Europe/Berlin:20260807T073000
END:VEVENT

END:VCALENDAR
