BEGIN:VCALENDAR
VERSION:2.0
PRODID:-//hacksw/handcal//NONSGML v1.0//EN
CALSCALE:GREGORIAN
BEGIN:VTIMEZONE
TZID:Europe/Berlin
X-LIC-LOCATION:Europe/Berlin
BEGIN:DAYLIGHT
TZOFFSETFROM:+0100
TZOFFSETTO:+0200
TZNAME:CEST
DTSTART:19700329T020000
RRULE:FREQ=YEARLY;BYDAY=-1SU;BYMONTH=3
END:DAYLIGHT
BEGIN:STANDARD
TZOFFSETFROM:+0200
TZOFFSETTO:+0100
TZNAME:CET
DTSTART:19701025T030000
RRULE:FREQ=YEARLY;BYDAY=-1SU;BYMONTH=10
END:STANDARD
END:VTIMEZONE
BEGIN:VEVENT
DTEND;TZID=Europe/Berlin:20260803T170000
UID:69e623b7d3d61
DTSTAMP:20260420T150143
LOCATION:Segelplatz am Campingplatz Badsee\,  Allmisried 1\, 88316 Isny/Beuren
DESCRIPTION:Heute ist Action am Badsee angesagt. \r\n\r\nIhr könnt an nur einem Tag das Windsurfen lernen. \r\nNicole Bärtle von der Surfschule Badsee wird euch dabei ihre Tricks zeigen.\r\n\r\nBring bitte Badesachen\, Vesper\, Trinken und 31€ mit.\r\nKurspreis ist incl. Surfmaterial und Neoprenanzug.\r\n\r\nBei schlechtem Wetter versuchen wir einen Ersatztermin mit besserem Wetter zu finden.
URL;VALUE=URI:https://www.unser-ferienprogramm.de/wangen/veranstaltung.php?id=309009
SUMMARY:Windsurfen lernen
DTSTART;TZID=Europe/Berlin:20260803T100000
END:VEVENT

END:VCALENDAR
