BEGIN:VCALENDAR
VERSION:2.0
PRODID:-//hacksw/handcal//NONSGML v1.0//EN
CALSCALE:GREGORIAN
BEGIN:VTIMEZONE
TZID:Europe/Berlin
X-LIC-LOCATION:Europe/Berlin
BEGIN:DAYLIGHT
TZOFFSETFROM:+0100
TZOFFSETTO:+0200
TZNAME:CEST
DTSTART:19700329T020000
RRULE:FREQ=YEARLY;BYDAY=-1SU;BYMONTH=3
END:DAYLIGHT
BEGIN:STANDARD
TZOFFSETFROM:+0200
TZOFFSETTO:+0100
TZNAME:CET
DTSTART:19701025T030000
RRULE:FREQ=YEARLY;BYDAY=-1SU;BYMONTH=10
END:STANDARD
END:VTIMEZONE
BEGIN:VEVENT
DTEND;TZID=Europe/Berlin:20260730T130000
UID:69e628e2212f8
DTSTAMP:20260420T152346
LOCATION:Hort an der Berger-Höhe-Schule
DESCRIPTION:Endspurt vor den Sommerferien: Aufräumen mit Action und Belohnung!\r\n\r\nBevor das neue Schuljahr startet\, krempeln wir die Ärmel hoch und machen uns bereit für eine coole Aufräum-Challenge! Spielzeug wird sortiert\, Materialien geputzt und alles auf „Hochglanz“ gebracht\, damit unser Spielzimmer wieder top aussieht. \r\nNach getaner Arbeit erwartet uns ein kleiner Ausflug in die Stadt. Und weil ihr so fleißig wart\, gibt’s am Ende für jeden eine kleine\, wohlverdiente Belohnung.\r\n\r\n
URL;VALUE=URI:https://www.unser-ferienprogramm.de/wangen/veranstaltung.php?id=305152
SUMMARY:Ferienbetreuung im Hort an der Berger-Höhe-Schule 
DTSTART;TZID=Europe/Berlin:20260730T070000
END:VEVENT

END:VCALENDAR
