BEGIN:VCALENDAR
VERSION:2.0
PRODID:-//hacksw/handcal//NONSGML v1.0//EN
CALSCALE:GREGORIAN
BEGIN:VTIMEZONE
TZID:Europe/Berlin
X-LIC-LOCATION:Europe/Berlin
BEGIN:DAYLIGHT
TZOFFSETFROM:+0100
TZOFFSETTO:+0200
TZNAME:CEST
DTSTART:19700329T020000
RRULE:FREQ=YEARLY;BYDAY=-1SU;BYMONTH=3
END:DAYLIGHT
BEGIN:STANDARD
TZOFFSETFROM:+0200
TZOFFSETTO:+0100
TZNAME:CET
DTSTART:19701025T030000
RRULE:FREQ=YEARLY;BYDAY=-1SU;BYMONTH=10
END:STANDARD
END:VTIMEZONE
BEGIN:VEVENT
DTEND;TZID=Europe/Berlin:20260731T130000
UID:69e6267e2a2e1
DTSTAMP:20260420T151334
LOCATION:Hort an der Freien Waldorfschule Wangen e.V.
DESCRIPTION:Unsere Ferienbetreuung bietet eine abwechslungsreiche Mischung aus freiem Spiel\, kleinen Spielrunden\, kreativen Bastelangeboten\, der Zubereitung kleiner Leckereien und kurzen Ausflügen in die nähere Umgebung. Die Gestaltung des Programms orientiert sich an der aktuellen Situation\, insbesondere an der Anzahl der angemeldeten Kinder\, der Gruppenstruktur\, den verfügbaren Betreuungspersonen und den Wetterbedingungen.\r\n 
URL;VALUE=URI:https://www.unser-ferienprogramm.de/wangen/veranstaltung.php?id=303839
SUMMARY:Ferienbetreuung\, Hort an der Waldorfschule
DTSTART;TZID=Europe/Berlin:20260730T070000
END:VEVENT

END:VCALENDAR
