BEGIN:VCALENDAR
VERSION:2.0
PRODID:-//hacksw/handcal//NONSGML v1.0//EN
CALSCALE:GREGORIAN
BEGIN:VTIMEZONE
TZID:Europe/Berlin
X-LIC-LOCATION:Europe/Berlin
BEGIN:DAYLIGHT
TZOFFSETFROM:+0100
TZOFFSETTO:+0200
TZNAME:CEST
DTSTART:19700329T020000
RRULE:FREQ=YEARLY;BYDAY=-1SU;BYMONTH=3
END:DAYLIGHT
BEGIN:STANDARD
TZOFFSETFROM:+0200
TZOFFSETTO:+0100
TZNAME:CET
DTSTART:19701025T030000
RRULE:FREQ=YEARLY;BYDAY=-1SU;BYMONTH=10
END:STANDARD
END:VTIMEZONE
BEGIN:VEVENT
DTEND;TZID=Europe/Berlin:20260529T000000
UID:69e628e0bc8f0
DTSTAMP:20260420T152344
LOCATION:Wangen im Allgäu
DESCRIPTION:Seit vielen Jahren bietet die MTG Wangen eine Vielzahl an Feriensportprogrammen für Kinder an. Neben der traditionellen Ferienfreizeit mit der Stadt Wangen in den ersten beiden Sommerferienwochen\, bieten wir darüber hinaus in allen Schulferien\, ausgenommen die Weihnachtsferien\, eine auch tageweise buchbare Ferienbetreuung an sowie die KiSS Ferienfreizeit unserer Kindersportschule. Für alle Angebote kann man sich nur noch im Folgenden online anmelden. Die entsprechenden Ferienfreizeiten und Betreuungsangebote werden mit entsprechendem zeitlichen Vorlauf auf der Website zur Anmeldung freigeschaltet.\r\n\r\nAnmeldungen unter: https://www.mtg-wangen.de/ferienfreizeiten
URL;VALUE=URI:https://www.unser-ferienprogramm.de/wangen/veranstaltung.php?id=301103
SUMMARY:MTG Pfingstferienbetreuung 2026
DTSTART;TZID=Europe/Berlin:20260526T000000
END:VEVENT

END:VCALENDAR
