BEGIN:VCALENDAR
VERSION:2.0
PRODID:-//hacksw/handcal//NONSGML v1.0//EN
CALSCALE:GREGORIAN
BEGIN:VTIMEZONE
TZID:Europe/Berlin
X-LIC-LOCATION:Europe/Berlin
BEGIN:DAYLIGHT
TZOFFSETFROM:+0100
TZOFFSETTO:+0200
TZNAME:CEST
DTSTART:19700329T020000
RRULE:FREQ=YEARLY;BYDAY=-1SU;BYMONTH=3
END:DAYLIGHT
BEGIN:STANDARD
TZOFFSETFROM:+0200
TZOFFSETTO:+0100
TZNAME:CET
DTSTART:19701025T030000
RRULE:FREQ=YEARLY;BYDAY=-1SU;BYMONTH=10
END:STANDARD
END:VTIMEZONE
BEGIN:VEVENT
DTEND;TZID=Europe/Berlin:20260811T130000
UID:69e6238f990bd
DTSTAMP:20260420T150103
LOCATION:Kath. Kindergarten St. Antonius\, Johannes-Jung-Straße 17\, 88239 Wangen im Allgäu
DESCRIPTION:Liebe Eltern\,\r\n\r\nauch im Jahr 2026 bieten wir berufstätigen Eltern\, die keine anderweitige Betreuung für ihr Kind haben\, die Möglichkeit\, Ihr(e) Kind(er) während der Sommerferien im Ferienkindergarten betreuen zu lassen. In diesem Jahr wird der Ferienkindergarten im katholischen Kindergarten St. Antonius stattfinden.\r\n\r\nBitte beachten Sie\, dass Sie mit Ihrer Anmeldung bestätigen\, dass aufgrund der Berufstätigkeit der Erziehungsberechtigten keine anderweitige Betreuungsmöglichkeit für Ihr Kind in den Sommerferien besteht und deshalb das Angebot des Ferienkindergartens in Anspruch genommen wird.\r\n\r\nZudem weisen wir darauf hin\, dass dieses Angebot ausschließlich für Kinder ab drei Jahren gilt.\r\n\r\nAnbei erhalten Sie einige wichtige Informationen zum Ferienkindergarten 2026:\r\n\r\nFerienkindergarten 2026:       Katholischer Kindergarten St. Antonius\r\nLeitung:                                   Frau Baumann-Boche\r\nAdresse:                                  Johannes-Jung-Straße 17\r\n                                                88239 Wangen im Allgäu\r\nTelefon:                                   07522 6765\r\nE-Mail:                                    LeitungStAntonius.WangenimAllgaeu@kiga.drs.de\r\n\r\nZeitraum:\t\t\t       10. August bis 28. August 2026\r\nÖffnungszeiten:\t\t       07:00 Uhr – 13:00 Uhr\r\nBringzeit:\t\t\t               07:00 Uhr – 08:00 Uhr\r\nAbholzeit:\t\t\t       12:30 Uhr – 13:00 Uhr\r\n\r\nBeitrag:\t\t\t               18\,00 € je Tag\r\n\r\nGerne können Sie mit Frau Baumann-Boche Kontakt aufnehmen\, wenn Sie Fragen zum Kindergarten haben oder sich vorab den diesjährigen Ferienkindergarten St. Antonius mit Ihrem Kind/ Ihren Kindern anschauen möchten. \r\n\r\nDie Betreuung im Ferienkindergarten erfolgt durch Erzieher/innen der Wangener Einrichtungen.\r\nWir freuen uns auf Ihre Anmeldung und wünschen Ihrem Kind/Ihren Kindern erlebnisreiche Sommertage im Ferienkindergarten.
URL;VALUE=URI:https://www.unser-ferienprogramm.de/wangen/veranstaltung.php?id=300033
SUMMARY:Städtischer Ferienkindergarten 11.08.2026
DTSTART;TZID=Europe/Berlin:20260811T070000
END:VEVENT

END:VCALENDAR
