BEGIN:VCALENDAR
VERSION:2.0
PRODID:-//hacksw/handcal//NONSGML v1.0//EN
CALSCALE:GREGORIAN
BEGIN:VTIMEZONE
TZID:Europe/Berlin
X-LIC-LOCATION:Europe/Berlin
BEGIN:DAYLIGHT
TZOFFSETFROM:+0100
TZOFFSETTO:+0200
TZNAME:CEST
DTSTART:19700329T020000
RRULE:FREQ=YEARLY;BYDAY=-1SU;BYMONTH=3
END:DAYLIGHT
BEGIN:STANDARD
TZOFFSETFROM:+0200
TZOFFSETTO:+0100
TZNAME:CET
DTSTART:19701025T030000
RRULE:FREQ=YEARLY;BYDAY=-1SU;BYMONTH=10
END:STANDARD
END:VTIMEZONE
BEGIN:VEVENT
DTEND;TZID=Europe/Berlin:20260605T130000
UID:69e6251b1a0e3
DTSTAMP:20260420T150739
LOCATION:Danneckerweg 38\, 88239 Wangen im Allgäu
DESCRIPTION:Montag 01.06.2026 \r\nStadt-Rallye durch Wangen \r\n\r\nDienstag 02.06.2026\r\nAusflug auf das Landesgartenschaugelände\r\n\r\nMittwoch 03.06.2026\r\nAusflug zum Minigolfplatz\r\n\r\nDonnerstag 04.06.2026\r\nFEIERTAG\r\n\r\nFreitag 05.06.2026\r\nAusflug auf das Landesgartenschaugelände\r\n\r\n\r\n\r\n\r\n\r\nUnsere Ferienbetreuung bietet eine abwechslungsreiche Mischung aus freiem Spiel\, kleinen Spielrunden\, kreativen (Bastel)-Angeboten und kurzen Ausflügen in die nähere Umgebung. \r\n\r\nDie Gestaltung des Programms orientiert sich an der aktuellen Situation\, insbesondere an der Anzahl der angemeldeten Kinder\, der Gruppenstruktur\, den verfügbaren Betreuungspersonen und den Wetterbedingungen.\r\n\r\n
URL;VALUE=URI:https://www.unser-ferienprogramm.de/wangen/veranstaltung.php?id=299039
SUMMARY:Pfingstferien bei den Ebnetstrolchen\, Wangen
DTSTART;TZID=Europe/Berlin:20260601T070000
END:VEVENT

END:VCALENDAR
