BEGIN:VCALENDAR
VERSION:2.0
PRODID:-//hacksw/handcal//NONSGML v1.0//EN
CALSCALE:GREGORIAN
BEGIN:VTIMEZONE
TZID:Europe/Berlin
X-LIC-LOCATION:Europe/Berlin
BEGIN:DAYLIGHT
TZOFFSETFROM:+0100
TZOFFSETTO:+0200
TZNAME:CEST
DTSTART:19700329T020000
RRULE:FREQ=YEARLY;BYDAY=-1SU;BYMONTH=3
END:DAYLIGHT
BEGIN:STANDARD
TZOFFSETFROM:+0200
TZOFFSETTO:+0100
TZNAME:CET
DTSTART:19701025T030000
RRULE:FREQ=YEARLY;BYDAY=-1SU;BYMONTH=10
END:STANDARD
END:VTIMEZONE
BEGIN:VEVENT
DTEND;TZID=Europe/Berlin:20260718T160000
UID:69e6271b4375a
DTSTAMP:20260420T151611
LOCATION:Gästemt Wangen im Allgäu
DESCRIPTION:Jetzt geht’s zurück ins Mittelalter! Verkleide Dich als Ritter\, Räuber oder Burgfräulein und erlebe einen abenteuerlichen Rundgang in der Wangener Museumslandschaft. Höre Geschichten von nächtlichen Überfällen\, einer weißen Gestalt auf der Burg und der wildentschlossenen Räuberbande\, die von unerschrockenen Müllersleuten in die Flucht geschlagen wird – erzählt vom Stadtschreiber oder einer Magd im historischen Gewand. Bei dieser eineinhalbstündigen Erlebnisführung werden Kostüme zum Ver-kleiden gestellt.
URL;VALUE=URI:https://www.unser-ferienprogramm.de/wangen/veranstaltung.php?id=298464
SUMMARY:Familienerlebnisführung "von Rittern\, Räubern und Rabauken"
DTSTART;TZID=Europe/Berlin:20260718T143000
END:VEVENT


BEGIN:VEVENT
DTEND;TZID=Europe/Berlin:20260720T160000
UID:69e6271b437721
DTSTAMP:20260420T151611
LOCATION:Gästemt Wangen im Allgäu
DESCRIPTION:Jetzt geht’s zurück ins Mittelalter! Verkleide Dich als Ritter\, Räuber oder Burgfräulein und erlebe einen abenteuerlichen Rundgang in der Wangener Museumslandschaft. Höre Geschichten von nächtlichen Überfällen\, einer weißen Gestalt auf der Burg und der wildentschlossenen Räuberbande\, die von unerschrockenen Müllersleuten in die Flucht geschlagen wird – erzählt vom Stadtschreiber oder einer Magd im historischen Gewand. Bei dieser eineinhalbstündigen Erlebnisführung werden Kostüme zum Ver-kleiden gestellt.
URL;VALUE=URI:https://www.unser-ferienprogramm.de/wangen/veranstaltung.php?id=298464
SUMMARY:Familienerlebnisführung "von Rittern\, Räubern und Rabauken"
DTSTART;TZID=Europe/Berlin:20260720T143000
END:VEVENT


BEGIN:VEVENT
DTEND;TZID=Europe/Berlin:20260727T160000
UID:69e6271b4377f2
DTSTAMP:20260420T151611
LOCATION:Gästemt Wangen im Allgäu
DESCRIPTION:Jetzt geht’s zurück ins Mittelalter! Verkleide Dich als Ritter\, Räuber oder Burgfräulein und erlebe einen abenteuerlichen Rundgang in der Wangener Museumslandschaft. Höre Geschichten von nächtlichen Überfällen\, einer weißen Gestalt auf der Burg und der wildentschlossenen Räuberbande\, die von unerschrockenen Müllersleuten in die Flucht geschlagen wird – erzählt vom Stadtschreiber oder einer Magd im historischen Gewand. Bei dieser eineinhalbstündigen Erlebnisführung werden Kostüme zum Ver-kleiden gestellt.
URL;VALUE=URI:https://www.unser-ferienprogramm.de/wangen/veranstaltung.php?id=298464
SUMMARY:Familienerlebnisführung "von Rittern\, Räubern und Rabauken"
DTSTART;TZID=Europe/Berlin:20260727T143000
END:VEVENT


BEGIN:VEVENT
DTEND;TZID=Europe/Berlin:20260801T160000
UID:69e6271b437893
DTSTAMP:20260420T151611
LOCATION:Gästemt Wangen im Allgäu
DESCRIPTION:Jetzt geht’s zurück ins Mittelalter! Verkleide Dich als Ritter\, Räuber oder Burgfräulein und erlebe einen abenteuerlichen Rundgang in der Wangener Museumslandschaft. Höre Geschichten von nächtlichen Überfällen\, einer weißen Gestalt auf der Burg und der wildentschlossenen Räuberbande\, die von unerschrockenen Müllersleuten in die Flucht geschlagen wird – erzählt vom Stadtschreiber oder einer Magd im historischen Gewand. Bei dieser eineinhalbstündigen Erlebnisführung werden Kostüme zum Ver-kleiden gestellt.
URL;VALUE=URI:https://www.unser-ferienprogramm.de/wangen/veranstaltung.php?id=298464
SUMMARY:Familienerlebnisführung "von Rittern\, Räubern und Rabauken"
DTSTART;TZID=Europe/Berlin:20260801T143000
END:VEVENT


BEGIN:VEVENT
DTEND;TZID=Europe/Berlin:20260803T160000
UID:69e6271b437924
DTSTAMP:20260420T151611
LOCATION:Gästemt Wangen im Allgäu
DESCRIPTION:Jetzt geht’s zurück ins Mittelalter! Verkleide Dich als Ritter\, Räuber oder Burgfräulein und erlebe einen abenteuerlichen Rundgang in der Wangener Museumslandschaft. Höre Geschichten von nächtlichen Überfällen\, einer weißen Gestalt auf der Burg und der wildentschlossenen Räuberbande\, die von unerschrockenen Müllersleuten in die Flucht geschlagen wird – erzählt vom Stadtschreiber oder einer Magd im historischen Gewand. Bei dieser eineinhalbstündigen Erlebnisführung werden Kostüme zum Ver-kleiden gestellt.
URL;VALUE=URI:https://www.unser-ferienprogramm.de/wangen/veranstaltung.php?id=298464
SUMMARY:Familienerlebnisführung "von Rittern\, Räubern und Rabauken"
DTSTART;TZID=Europe/Berlin:20260803T143000
END:VEVENT

END:VCALENDAR
