BEGIN:VCALENDAR
VERSION:2.0
PRODID:-//hacksw/handcal//NONSGML v1.0//EN
CALSCALE:GREGORIAN
BEGIN:VTIMEZONE
TZID:Europe/Berlin
X-LIC-LOCATION:Europe/Berlin
BEGIN:DAYLIGHT
TZOFFSETFROM:+0100
TZOFFSETTO:+0200
TZNAME:CEST
DTSTART:19700329T020000
RRULE:FREQ=YEARLY;BYDAY=-1SU;BYMONTH=3
END:DAYLIGHT
BEGIN:STANDARD
TZOFFSETFROM:+0200
TZOFFSETTO:+0100
TZNAME:CET
DTSTART:19701025T030000
RRULE:FREQ=YEARLY;BYDAY=-1SU;BYMONTH=10
END:STANDARD
END:VTIMEZONE
BEGIN:VEVENT
DTEND;TZID=Europe/Berlin:20260814T130000
UID:69e62523417d5
DTSTAMP:20260420T150747
LOCATION:Jugendhaus Wangen / Großer Saal
DESCRIPTION:In einem Rollen- und Erlebnis-Spiel wollen wir die spannenden Abenteuer von Taka aus dem Buch „Ninja“ von Chris Bradford (Autor der „Samurai“-Bücher) lebendig werden lassen: „Der 14-jährige Taka hat nur ein großes Ziel: seine Ninja-Ausbildung zu vollenden und auf seine erste Mission geschickt zu werden ...“\r\nMit dem Ninja-Schüler Taka und dem Samurai-Schüler Jack tauchen wir in die Welt des alten Japan ein: lernen den Ehrenkodex für Samurai („Hagakure“)\, den Weg des Kriegers („Bushido“) und die Kunst der Hohen Strategie („Okugisho“) kennen\, erfahren etwas über die Ausbildung zum Ninja\, schreiben japanische Schriftzeichen\, üben den Kampf mit „Bokken“ (Übungsschwert aus Holz)\, trainieren Bogenschießen\, bauen vielleicht eigene Übungs-Katana und Übungs-Wakizashi\, fertigen eine Samurai-Rüstung an\, basteln ein „Daruma“ (Wunsch- und Meditations-Puppe)\, machen eine japanische Tee-Zeremonie … u.v.m.\r\nIm „Saal des Falken“ soll die Welt der Samurai und Ninja zum Leben erweckt werden\, indem du in die Rolle eines Samurai- bzw. Ninja-Schülers schlüpfst und spannende Abenteuer mit Mut\, Verstand und Selbstvertrauen erlebst. Höhepunkt des Ferienkurses ist eine Trainingscamp-Wanderung mit abenteuerlichen Erlebnis-Spielen … „Konnichiwa“ - Sensei Sencha erwartet dich!\r\nANMELDUNG über das Kontaktformular der Internetseite des Lernateliers ZLI:\r\nhttps://www.zukunftslernimpulse.de/kontakt/\r\nAnmeldeschluss: 24.07.26
URL;VALUE=URI:https://www.unser-ferienprogramm.de/wangen/veranstaltung.php?id=298444
SUMMARY:ABENTEUER GESCHICHTE – Die Welt der Samurai und Ninja (mit Abenteuer-Trainingscamp)
DTSTART;TZID=Europe/Berlin:20260810T090000
END:VEVENT

END:VCALENDAR
