BEGIN:VCALENDAR
VERSION:2.0
PRODID:-//hacksw/handcal//NONSGML v1.0//EN
CALSCALE:GREGORIAN
BEGIN:VTIMEZONE
TZID:Europe/Berlin
X-LIC-LOCATION:Europe/Berlin
BEGIN:DAYLIGHT
TZOFFSETFROM:+0100
TZOFFSETTO:+0200
TZNAME:CEST
DTSTART:19700329T020000
RRULE:FREQ=YEARLY;BYDAY=-1SU;BYMONTH=3
END:DAYLIGHT
BEGIN:STANDARD
TZOFFSETFROM:+0200
TZOFFSETTO:+0100
TZNAME:CET
DTSTART:19701025T030000
RRULE:FREQ=YEARLY;BYDAY=-1SU;BYMONTH=10
END:STANDARD
END:VTIMEZONE
BEGIN:VEVENT
DTEND;TZID=Europe/Berlin:20260807T130000
UID:69e626cb64c74
DTSTAMP:20260420T151451
LOCATION:Jugendhaus Wangen / Großer Saal
DESCRIPTION:Justus\, Peter und Bob müssen einen wertvollen Skarabäus finden. Mr Montgomery\, den sie im Fall „Die sieben Tore“ entlarvt hatten\, ist aus dem Gefängnis geflohen und bedroht die Welt … Die drei ??? wissen nicht weiter und brauchen deine Hilfe! \r\nUnd während wir das Rätsel des geheimnisvollen Skarabäus gemeinsam lösen\, absolvierst du nebenbei ein spannendes Training für Detektivinnen/Detektive mit Spurensicherung\, Tatortanalyse\, Fingerabdrücken\, Personenbeschreibungen\, Phantombildern\, Observationen … außerdem erfährst du auch noch interessante Fakten über das Alte Ägypten\, über Pharaonen\, Mumien und ägyptische Götter/Göttinnen. Höhepunkt des Detektiv-Trainings ist eine spannende Krimi-Übernachtung mit abenteuerlichen Aktionen.\r\nANMELDUNG über das Kontaktformular der Internetseite des Lernateliers ZLI:\r\nhttps://www.zukunftslernimpulse.de/kontakt/\r\nAnmeldeschluss: 17.07.26
URL;VALUE=URI:https://www.unser-ferienprogramm.de/wangen/veranstaltung.php?id=298443
SUMMARY:„DIE SUCHE NACH DEM VERSCHWUNDENEN SKARABÄUS“ - ein Krimi-Abenteuer für junge Detektive/Detektivinnen zur Rettung der Welt (mit abenteuerlicher Krimi-Übernachtung)
DTSTART;TZID=Europe/Berlin:20260803T090000
END:VEVENT

END:VCALENDAR
