BEGIN:VCALENDAR
VERSION:2.0
PRODID:-//hacksw/handcal//NONSGML v1.0//EN
CALSCALE:GREGORIAN
BEGIN:VTIMEZONE
TZID:Europe/Berlin
X-LIC-LOCATION:Europe/Berlin
BEGIN:DAYLIGHT
TZOFFSETFROM:+0100
TZOFFSETTO:+0200
TZNAME:CEST
DTSTART:19700329T020000
RRULE:FREQ=YEARLY;BYDAY=-1SU;BYMONTH=3
END:DAYLIGHT
BEGIN:STANDARD
TZOFFSETFROM:+0200
TZOFFSETTO:+0100
TZNAME:CET
DTSTART:19701025T030000
RRULE:FREQ=YEARLY;BYDAY=-1SU;BYMONTH=10
END:STANDARD
END:VTIMEZONE
BEGIN:VEVENT
DTEND;TZID=Europe/Berlin:20260605T130000
UID:69e629110bf40
DTSTAMP:20260420T152433
LOCATION:Jugendhaus Wangen / Großer Saal
DESCRIPTION:Vom Abakus bis zum Zahnrad\, vom Faustkeil (vor 1\,5 Mio. Jahren) bis zum Gerät zum Beamen (Zukunft)\, von der genialen Tüftlerin bis zum weltfremden Spinner – ohne die Ideen von Erfinderinnen/Erfindern wäre unsere heutige Welt eine ganz andere … und du darfst dich in dieser Welt der Forscherinnen und Forscher beim Ferienkurs ausprobieren: Wir bauen Modelle\, z.B. Luftballonschiffe und Fluggeräte\, lernen berühmte Erfinder/Erfinderinnen kennen\, u.a. auch Leonardo da Vinci und Melitta Bentz\, erproben eigene Erfindungen\, testen Ideen nach dem Motto: „Einfälle statt Abfälle“\, erfinden eine phantasievolle Zukunft … und machen eine Abenteuer-Radtour zum Ausprobieren der gebauten Dinge.\r\nANMELDUNG über das Kontaktformular der Internetseite des Lernateliers ZLI:\r\nhttps://www.zukunftslernimpulse.de/kontakt/\r\nAnmeldeschluss: 15.05.26
URL;VALUE=URI:https://www.unser-ferienprogramm.de/wangen/veranstaltung.php?id=298401
SUMMARY:WERKSTATT der ERFINDERINNEN und ERFINDER – genialen Dingen auf der Spur (mit Abenteuer-Radtour)
DTSTART;TZID=Europe/Berlin:20260601T090000
END:VEVENT

END:VCALENDAR
