BEGIN:VCALENDAR
VERSION:2.0
PRODID:-//hacksw/handcal//NONSGML v1.0//EN
CALSCALE:GREGORIAN
BEGIN:VTIMEZONE
TZID:Europe/Berlin
X-LIC-LOCATION:Europe/Berlin
BEGIN:DAYLIGHT
TZOFFSETFROM:+0100
TZOFFSETTO:+0200
TZNAME:CEST
DTSTART:19700329T020000
RRULE:FREQ=YEARLY;BYDAY=-1SU;BYMONTH=3
END:DAYLIGHT
BEGIN:STANDARD
TZOFFSETFROM:+0200
TZOFFSETTO:+0100
TZNAME:CET
DTSTART:19701025T030000
RRULE:FREQ=YEARLY;BYDAY=-1SU;BYMONTH=10
END:STANDARD
END:VTIMEZONE
BEGIN:VEVENT
DTEND;TZID=Europe/Berlin:20260529T130000
UID:69e6267dbaecb
DTSTAMP:20260420T151333
LOCATION:Jugendhaus Wangen / Großer Saal
DESCRIPTION:Eine Reise zum roten Planeten … Kann der Traum der Menschen Wirklichkeit werden? Wir checken diese Vision in einem Weltraum-Trainingscamp mit abenteuerlichen Aktionen: Wir bauen eine Luftdruck-Rakete\, lernen unser Planeten-System kennen\, erfahren etwas über das Leben von Raumfahrer/-innen im Weltall\, simulieren eine Mars-Expedition mit dem Spiel „Mars 2049“\, basteln den NASA-Mars-Rover „Perseverance“\, erkunden die Überlebenschancen auf dem Mars am Beispiel einer Mars-Basisstation\, machen verschiedene Experimente und trainieren Extremsituationen … Außerdem wollen wir einige Fragen beantworten\, zum Beispiel: Was ist eigentlich der Unterschied zwischen Kosmonaut/-innen\, Astronaut/-innen\, Taikonaut/-innen und Vyomanaut/-innen? Können auch andere Planeten des Sonnensystems besiedelt werden? Gibt es außerirdisches Leben im Universum? Kann Science-Fiction die Zukunft wissenschaftlich voraussagen? … Sei gespannt auf ein phantasiereiches Weltraum-Abenteuer – der Countdown beginnt: 10 – 9 – 8 … 3 – 2 – 1 – GO!\r\nANMELDUNG über das Kontaktformular der Internetseite des Lernateliers ZLI:\r\nhttps://www.zukunftslernimpulse.de/kontakt/\r\nAnmeldeschluss: 08.05.26
URL;VALUE=URI:https://www.unser-ferienprogramm.de/wangen/veranstaltung.php?id=298398
SUMMARY:„SPACE MISSION MARS“ - ein Weltraum-Abenteuer in der Zukunft (mit Überlebens-Trainingscamp und Übernachtungs-Aktion)
DTSTART;TZID=Europe/Berlin:20260526T090000
END:VEVENT

END:VCALENDAR
