BEGIN:VCALENDAR
VERSION:2.0
PRODID:-//hacksw/handcal//NONSGML v1.0//EN
CALSCALE:GREGORIAN
BEGIN:VTIMEZONE
TZID:Europe/Berlin
X-LIC-LOCATION:Europe/Berlin
BEGIN:DAYLIGHT
TZOFFSETFROM:+0100
TZOFFSETTO:+0200
TZNAME:CEST
DTSTART:19700329T020000
RRULE:FREQ=YEARLY;BYDAY=-1SU;BYMONTH=3
END:DAYLIGHT
BEGIN:STANDARD
TZOFFSETFROM:+0200
TZOFFSETTO:+0100
TZNAME:CET
DTSTART:19701025T030000
RRULE:FREQ=YEARLY;BYDAY=-1SU;BYMONTH=10
END:STANDARD
END:VTIMEZONE
BEGIN:VEVENT
DTEND;TZID=Europe/Berlin:20260527T120000
UID:69e790139bfb2
DTSTAMP:20260421T165619
LOCATION:Volkshochschule\, Metzgergasse 2\, Stadtbezirk Schwenningen
DESCRIPTION:Plotten ist wie Malen\, nur dass man nicht mit Stiften auf Papier malt\, sondern mit einer speziellen Maschine auf verschiedene Materialien wie Papier\, Stoff oder Folie. Man kann damit coole Designs und Muster erstellen\, die dann auf Kleidung\, Taschen oder anderen Gegenständen aufgebracht werden können. Es ist eine kreative und spaßige Art\, um individuelle und einzigartige Dinge zu gestalten. \r\n\r\nBei diesem Kurs hast du die Wahlmöglichkeit zwischen flauschigen Kissen\, einer Filztasche oder einem 12teiligen Set aus Tischsets\, Bestecktaschen und Filzuntersetzer.\r\n\r\nAls Motiv stehen dir ca. 200 Vorlagen (Sprüche\, Tiermotive\, Namen usw.) zur Verfügung. Die Liste für die Auswahl wird vorab per Mail oder WhatsApp zugeschickt. Natürlich darfst du dein Werk mit nach Hause nehmen. Regine Trilling (Lehrerin im Ruhestand) freut sich auf dich!\r\n\r\nBitte Mitbringen: spitze Pinzette
URL;VALUE=URI:https://www.unser-ferienprogramm.de/villingen-schwenningen/veranstaltung.php?id=315526
SUMMARY:Plotten (Kissen\, Filztasche\, Tischsets\, Bestecktaschen\, Filzuntersetzer)
DTSTART;TZID=Europe/Berlin:20260527T100000
END:VEVENT

END:VCALENDAR
