BEGIN:VCALENDAR
VERSION:2.0
PRODID:-//hacksw/handcal//NONSGML v1.0//EN
CALSCALE:GREGORIAN
BEGIN:VTIMEZONE
TZID:Europe/Berlin
X-LIC-LOCATION:Europe/Berlin
BEGIN:DAYLIGHT
TZOFFSETFROM:+0100
TZOFFSETTO:+0200
TZNAME:CEST
DTSTART:19700329T020000
RRULE:FREQ=YEARLY;BYDAY=-1SU;BYMONTH=3
END:DAYLIGHT
BEGIN:STANDARD
TZOFFSETFROM:+0200
TZOFFSETTO:+0100
TZNAME:CET
DTSTART:19701025T030000
RRULE:FREQ=YEARLY;BYDAY=-1SU;BYMONTH=10
END:STANDARD
END:VTIMEZONE
BEGIN:VEVENT
DTEND;TZID=Europe/Berlin:20260527T120000
UID:69e7902197611
DTSTAMP:20260421T165633
LOCATION:Aventuro Hof\, Römerweg 19\, Zollhaus
DESCRIPTION:Hast du Lust auf ein echtes Pferdeabenteuer? Dann bist du hier genau richtig!\r\nGemeinsam lernen wir unsere lieben Pferde kennen und machen die ersten Schritte im Umgang mit ihnen. Du darfst beim Putzen helfen\, die Pferde führen und natürlich auch erste Reitversuche machen – alles ganz spielerisch und mit viel Spaß!\r\n\r\nDabei wirst du merken\, wie dein Gleichgewicht immer besser wird\, deine Koordination wächst und du immer mutiger und selbstbewusster wirst.\r\n\r\nFreu dich auf eine spannende Zeit mit unseren Pferden und vielen Erlebnissen!\r\n\r\nBitte mitbringen: feste Schuhe\, bequeme Kleidung\, etwas zu trinken und eine kleine Brotzeit\r\n
URL;VALUE=URI:https://www.unser-ferienprogramm.de/villingen-schwenningen/veranstaltung.php?id=315481
SUMMARY:Schnupperreiten am Aventuro Hof
DTSTART;TZID=Europe/Berlin:20260527T090000
END:VEVENT

END:VCALENDAR
