BEGIN:VCALENDAR
VERSION:2.0
PRODID:-//hacksw/handcal//NONSGML v1.0//EN
CALSCALE:GREGORIAN
BEGIN:VTIMEZONE
TZID:Europe/Berlin
X-LIC-LOCATION:Europe/Berlin
BEGIN:DAYLIGHT
TZOFFSETFROM:+0100
TZOFFSETTO:+0200
TZNAME:CEST
DTSTART:19700329T020000
RRULE:FREQ=YEARLY;BYDAY=-1SU;BYMONTH=3
END:DAYLIGHT
BEGIN:STANDARD
TZOFFSETFROM:+0200
TZOFFSETTO:+0100
TZNAME:CET
DTSTART:19701025T030000
RRULE:FREQ=YEARLY;BYDAY=-1SU;BYMONTH=10
END:STANDARD
END:VTIMEZONE
BEGIN:VEVENT
DTEND;TZID=Europe/Berlin:20260528T140000
UID:69e79027d7654
DTSTAMP:20260421T165639
LOCATION:Jugendhaus K3\, Kalkofenstraße 3a\, Stadtbezirk Villingen
DESCRIPTION:Hast du Lust deinen eigenen Schmetterling zu gestalten?\r\nAus farbigen Kugeln und bunten Flügeln kannst du deinen ganz persönlichen Schmetterling basteln. Ob kunterbunt\, glitzernd oder ganz verrrückt\, deiner Fantasie sind keine Grenzen gesetzt.\r\n\r\nFrühstück und Getränke bekommt ihr von uns. Bitte bringt für das Mittagessen ein eigenes Vesper mit.\r\n\r\nBitte mitbringen:\r\n- Vesper für das Mittagessen\r\n- Informationen über bekannte Allergien und ggf. Notfallmedizin\r\n\r\n\r\n
URL;VALUE=URI:https://www.unser-ferienprogramm.de/villingen-schwenningen/veranstaltung.php?id=315003
SUMMARY:*Ferienbetreuung im K3 – Flatterspaß\, bastle deinen eigenen Schmetterling!
DTSTART;TZID=Europe/Berlin:20260528T080000
END:VEVENT

END:VCALENDAR
