BEGIN:VCALENDAR
VERSION:2.0
PRODID:-//hacksw/handcal//NONSGML v1.0//EN
CALSCALE:GREGORIAN
BEGIN:VTIMEZONE
TZID:Europe/Berlin
X-LIC-LOCATION:Europe/Berlin
BEGIN:DAYLIGHT
TZOFFSETFROM:+0100
TZOFFSETTO:+0200
TZNAME:CEST
DTSTART:19700329T020000
RRULE:FREQ=YEARLY;BYDAY=-1SU;BYMONTH=3
END:DAYLIGHT
BEGIN:STANDARD
TZOFFSETFROM:+0200
TZOFFSETTO:+0100
TZNAME:CET
DTSTART:19701025T030000
RRULE:FREQ=YEARLY;BYDAY=-1SU;BYMONTH=10
END:STANDARD
END:VTIMEZONE
BEGIN:VEVENT
DTEND;TZID=Europe/Berlin:20260527T140000
UID:69e79028f33bb
DTSTAMP:20260421T165640
LOCATION:Jugendhaus K3\, Kalkofenstraße 3a\, Stadtbezirk Villingen
DESCRIPTION:Willkommen zur ultimativen Abenteuerrally im K3!\r\n\r\nHeute sind Eure Spürnasen\, Teamgeist und Superhirne gefragt.\r\nKnifflige Hinweise\, geheime Rätsel und eventuell sogar ein toller Schatz warten auf Euch!\r\n\r\nSeid Ihr bereit\, die geheimen Codes zu knacken und die große K3-Challenge zu lösen?\r\n\r\nDas Abenteuer wartet!\r\n\r\nFrühstück und Getränke bekommt ihr von uns. Bitte bringt für das Mittagessen ein eigenes Vesper mit.\r\n\r\nBitte mitbringen:\r\n- Vesper für das Mittagessen\r\n- Informationen über bekannte Allergien und ggf. Notfallmedizin\r\n\r\n\r\n
URL;VALUE=URI:https://www.unser-ferienprogramm.de/villingen-schwenningen/veranstaltung.php?id=314998
SUMMARY:*Ferienbetreuung im K3 – Abenteuerrallye im K3
DTSTART;TZID=Europe/Berlin:20260527T080000
END:VEVENT

END:VCALENDAR
