BEGIN:VCALENDAR
VERSION:2.0
PRODID:-//hacksw/handcal//NONSGML v1.0//EN
CALSCALE:GREGORIAN
BEGIN:VTIMEZONE
TZID:Europe/Berlin
X-LIC-LOCATION:Europe/Berlin
BEGIN:DAYLIGHT
TZOFFSETFROM:+0100
TZOFFSETTO:+0200
TZNAME:CEST
DTSTART:19700329T020000
RRULE:FREQ=YEARLY;BYDAY=-1SU;BYMONTH=3
END:DAYLIGHT
BEGIN:STANDARD
TZOFFSETFROM:+0200
TZOFFSETTO:+0100
TZNAME:CET
DTSTART:19701025T030000
RRULE:FREQ=YEARLY;BYDAY=-1SU;BYMONTH=10
END:STANDARD
END:VTIMEZONE
BEGIN:VEVENT
DTEND;TZID=Europe/Berlin:20260526T130000
UID:69e79014870f3
DTSTAMP:20260421T165620
LOCATION:David-Fuchs-Haus\, Schilterhäusle\, Tulastraße 8\, Stadtbezirk Villingen
DESCRIPTION:Unser Motto für das Jahr 2026 lautet Mission 'Neue Welt'. Ihr begebt euch auf eine besondere Reise: Ihr werdet Entdecker\, Erfinder und Gestalter und erschafft euch gemeinsam eine völlig neue Welt\, so wie sie in eurer Vorstellung existieren kann – bunt\, mutig\, kreativ und voller Möglichkeiten. Haben wir dein Interesse geweckt? Dann melde dich schnell an.\r\n\r\nDie Ferieninsel ist das Ferienprogramm des Kinder- und Familienzentrums Villingen-Schwenningen. Es findet im Stadtteil Schilterhäusle als Ferienprogramm für den Großraum Villingen-Schwenningen statt und bietet in altersgerechten Gruppen eine zuverlässige Tagesbetreuung für Kinder von 3-12 Jahren an.\r\n\r\n\r\nBei diesem Angebot sind die Kosten für das Frühstück und gemeinsame Mittagessen enthalten.\r\n\r\nDie reguläre Betreuungszeit ist von 9-13 Uhr. Auf Wunsch kann eine Frühbetreuung von 7-9 Uhr hinzugebucht werden. Es entstehen keine Mehrkosten.\r\n\r\nDie Ferieninsel ist nur wochenweise buchbar\, nicht an einzelnen Tagen.\r\n\r\nBitte mitbringen:\r\nWetterentsprechende Kleidung (z.B. Gummistiefel\, Regenjacke oder Sonnenhut\, Sonnencreme)\; Ersatzkleidung\r\n\r\nDas entsprechende Anmeldeformular und weitere Informationen befinden sich auf der Homepage unter: www.stiftung-st-franziskus.de/ferieninsel
URL;VALUE=URI:https://www.unser-ferienprogramm.de/villingen-schwenningen/veranstaltung.php?id=314966
SUMMARY:Ferieninsel 2026 Mission 'Neue Welt'
DTSTART;TZID=Europe/Berlin:20260526T070000
END:VEVENT


BEGIN:VEVENT
DTEND;TZID=Europe/Berlin:20260527T130000
UID:69e790148712d1
DTSTAMP:20260421T165620
LOCATION:David-Fuchs-Haus\, Schilterhäusle\, Tulastraße 8\, Stadtbezirk Villingen
DESCRIPTION:Unser Motto für das Jahr 2026 lautet Mission 'Neue Welt'. Ihr begebt euch auf eine besondere Reise: Ihr werdet Entdecker\, Erfinder und Gestalter und erschafft euch gemeinsam eine völlig neue Welt\, so wie sie in eurer Vorstellung existieren kann – bunt\, mutig\, kreativ und voller Möglichkeiten. Haben wir dein Interesse geweckt? Dann melde dich schnell an.\r\n\r\nDie Ferieninsel ist das Ferienprogramm des Kinder- und Familienzentrums Villingen-Schwenningen. Es findet im Stadtteil Schilterhäusle als Ferienprogramm für den Großraum Villingen-Schwenningen statt und bietet in altersgerechten Gruppen eine zuverlässige Tagesbetreuung für Kinder von 3-12 Jahren an.\r\n\r\n\r\nBei diesem Angebot sind die Kosten für das Frühstück und gemeinsame Mittagessen enthalten.\r\n\r\nDie reguläre Betreuungszeit ist von 9-13 Uhr. Auf Wunsch kann eine Frühbetreuung von 7-9 Uhr hinzugebucht werden. Es entstehen keine Mehrkosten.\r\n\r\nDie Ferieninsel ist nur wochenweise buchbar\, nicht an einzelnen Tagen.\r\n\r\nBitte mitbringen:\r\nWetterentsprechende Kleidung (z.B. Gummistiefel\, Regenjacke oder Sonnenhut\, Sonnencreme)\; Ersatzkleidung\r\n\r\nDas entsprechende Anmeldeformular und weitere Informationen befinden sich auf der Homepage unter: www.stiftung-st-franziskus.de/ferieninsel
URL;VALUE=URI:https://www.unser-ferienprogramm.de/villingen-schwenningen/veranstaltung.php?id=314966
SUMMARY:Ferieninsel 2026 Mission 'Neue Welt'
DTSTART;TZID=Europe/Berlin:20260527T070000
END:VEVENT


BEGIN:VEVENT
DTEND;TZID=Europe/Berlin:20260528T130000
UID:69e79014871402
DTSTAMP:20260421T165620
LOCATION:David-Fuchs-Haus\, Schilterhäusle\, Tulastraße 8\, Stadtbezirk Villingen
DESCRIPTION:Unser Motto für das Jahr 2026 lautet Mission 'Neue Welt'. Ihr begebt euch auf eine besondere Reise: Ihr werdet Entdecker\, Erfinder und Gestalter und erschafft euch gemeinsam eine völlig neue Welt\, so wie sie in eurer Vorstellung existieren kann – bunt\, mutig\, kreativ und voller Möglichkeiten. Haben wir dein Interesse geweckt? Dann melde dich schnell an.\r\n\r\nDie Ferieninsel ist das Ferienprogramm des Kinder- und Familienzentrums Villingen-Schwenningen. Es findet im Stadtteil Schilterhäusle als Ferienprogramm für den Großraum Villingen-Schwenningen statt und bietet in altersgerechten Gruppen eine zuverlässige Tagesbetreuung für Kinder von 3-12 Jahren an.\r\n\r\n\r\nBei diesem Angebot sind die Kosten für das Frühstück und gemeinsame Mittagessen enthalten.\r\n\r\nDie reguläre Betreuungszeit ist von 9-13 Uhr. Auf Wunsch kann eine Frühbetreuung von 7-9 Uhr hinzugebucht werden. Es entstehen keine Mehrkosten.\r\n\r\nDie Ferieninsel ist nur wochenweise buchbar\, nicht an einzelnen Tagen.\r\n\r\nBitte mitbringen:\r\nWetterentsprechende Kleidung (z.B. Gummistiefel\, Regenjacke oder Sonnenhut\, Sonnencreme)\; Ersatzkleidung\r\n\r\nDas entsprechende Anmeldeformular und weitere Informationen befinden sich auf der Homepage unter: www.stiftung-st-franziskus.de/ferieninsel
URL;VALUE=URI:https://www.unser-ferienprogramm.de/villingen-schwenningen/veranstaltung.php?id=314966
SUMMARY:Ferieninsel 2026 Mission 'Neue Welt'
DTSTART;TZID=Europe/Berlin:20260528T070000
END:VEVENT


BEGIN:VEVENT
DTEND;TZID=Europe/Berlin:20260529T130000
UID:69e79014871503
DTSTAMP:20260421T165620
LOCATION:David-Fuchs-Haus\, Schilterhäusle\, Tulastraße 8\, Stadtbezirk Villingen
DESCRIPTION:Unser Motto für das Jahr 2026 lautet Mission 'Neue Welt'. Ihr begebt euch auf eine besondere Reise: Ihr werdet Entdecker\, Erfinder und Gestalter und erschafft euch gemeinsam eine völlig neue Welt\, so wie sie in eurer Vorstellung existieren kann – bunt\, mutig\, kreativ und voller Möglichkeiten. Haben wir dein Interesse geweckt? Dann melde dich schnell an.\r\n\r\nDie Ferieninsel ist das Ferienprogramm des Kinder- und Familienzentrums Villingen-Schwenningen. Es findet im Stadtteil Schilterhäusle als Ferienprogramm für den Großraum Villingen-Schwenningen statt und bietet in altersgerechten Gruppen eine zuverlässige Tagesbetreuung für Kinder von 3-12 Jahren an.\r\n\r\n\r\nBei diesem Angebot sind die Kosten für das Frühstück und gemeinsame Mittagessen enthalten.\r\n\r\nDie reguläre Betreuungszeit ist von 9-13 Uhr. Auf Wunsch kann eine Frühbetreuung von 7-9 Uhr hinzugebucht werden. Es entstehen keine Mehrkosten.\r\n\r\nDie Ferieninsel ist nur wochenweise buchbar\, nicht an einzelnen Tagen.\r\n\r\nBitte mitbringen:\r\nWetterentsprechende Kleidung (z.B. Gummistiefel\, Regenjacke oder Sonnenhut\, Sonnencreme)\; Ersatzkleidung\r\n\r\nDas entsprechende Anmeldeformular und weitere Informationen befinden sich auf der Homepage unter: www.stiftung-st-franziskus.de/ferieninsel
URL;VALUE=URI:https://www.unser-ferienprogramm.de/villingen-schwenningen/veranstaltung.php?id=314966
SUMMARY:Ferieninsel 2026 Mission 'Neue Welt'
DTSTART;TZID=Europe/Berlin:20260529T070000
END:VEVENT

END:VCALENDAR
