BEGIN:VCALENDAR
VERSION:2.0
PRODID:-//hacksw/handcal//NONSGML v1.0//EN
CALSCALE:GREGORIAN
BEGIN:VTIMEZONE
TZID:Europe/Berlin
X-LIC-LOCATION:Europe/Berlin
BEGIN:DAYLIGHT
TZOFFSETFROM:+0100
TZOFFSETTO:+0200
TZNAME:CEST
DTSTART:19700329T020000
RRULE:FREQ=YEARLY;BYDAY=-1SU;BYMONTH=3
END:DAYLIGHT
BEGIN:STANDARD
TZOFFSETFROM:+0200
TZOFFSETTO:+0100
TZNAME:CET
DTSTART:19701025T030000
RRULE:FREQ=YEARLY;BYDAY=-1SU;BYMONTH=10
END:STANDARD
END:VTIMEZONE
BEGIN:VEVENT
DTEND;TZID=Europe/Berlin:20260526T123000
UID:69e78d56b2e0b
DTSTAMP:20260421T164438
LOCATION:Gymnasium am Romäusring\, Romäusring 17\, Stadtbezirk Villingen
DESCRIPTION:Komm mit auf Wildkräutertour! Gemeinsam gehen wir in die Natur\, lernen wilde Kräuter kennen\,\r\ndie nicht nur hübsch aussehen\, sondern sich auch vielfältig verwenden lassen und neue\r\nGeschmackserlebnisse bieten. Aus den gesammelten Kräutern bereiten wir zusammen ein paar\r\nKöstlichkeiten zu\, die wir im Abschluss gemeinsam probieren werden. Daniela Ludin (zertifizierte Kräuterpädagogin) freut sich auf dich!
URL;VALUE=URI:https://www.unser-ferienprogramm.de/villingen-schwenningen/veranstaltung.php?id=314765
SUMMARY:Wildkräutererlebnistag
DTSTART;TZID=Europe/Berlin:20260526T093000
END:VEVENT

END:VCALENDAR
