BEGIN:VCALENDAR
VERSION:2.0
PRODID:-//hacksw/handcal//NONSGML v1.0//EN
CALSCALE:GREGORIAN
BEGIN:VTIMEZONE
TZID:Europe/Berlin
X-LIC-LOCATION:Europe/Berlin
BEGIN:DAYLIGHT
TZOFFSETFROM:+0100
TZOFFSETTO:+0200
TZNAME:CEST
DTSTART:19700329T020000
RRULE:FREQ=YEARLY;BYDAY=-1SU;BYMONTH=3
END:DAYLIGHT
BEGIN:STANDARD
TZOFFSETFROM:+0200
TZOFFSETTO:+0100
TZNAME:CET
DTSTART:19701025T030000
RRULE:FREQ=YEARLY;BYDAY=-1SU;BYMONTH=10
END:STANDARD
END:VTIMEZONE
BEGIN:VEVENT
DTEND;TZID=Europe/Berlin:20260527T123000
UID:69e78ffce8bf0
DTSTAMP:20260421T165556
LOCATION:78056 Villingen-Schwenningen
DESCRIPTION:Verbringe einen besonderen Ferientag auf unserem Ponyhof! Gemeinsam werden wir unsere Tiere kennenlernen\, putzen und pflegen. Neben Ponyreiten und Spielen rund ums und mit dem Pferd bleibt auch Zeit zum Basteln und kreativ sein.\r\n\r\nFolgendes sollte mitgebracht werden:\r\nReithelm oder Fahrradhelm\, festes Schuhwerk\, wetterfeste Kleidung\, Sonnenschutz\, Vesper und Trinken
URL;VALUE=URI:https://www.unser-ferienprogramm.de/villingen-schwenningen/veranstaltung.php?id=314760
SUMMARY:Zeit mit Pferden
DTSTART;TZID=Europe/Berlin:20260527T090000
END:VEVENT

END:VCALENDAR
