BEGIN:VCALENDAR
VERSION:2.0
PRODID:-//hacksw/handcal//NONSGML v1.0//EN
CALSCALE:GREGORIAN
BEGIN:VTIMEZONE
TZID:Europe/Berlin
X-LIC-LOCATION:Europe/Berlin
BEGIN:DAYLIGHT
TZOFFSETFROM:+0100
TZOFFSETTO:+0200
TZNAME:CEST
DTSTART:19700329T020000
RRULE:FREQ=YEARLY;BYDAY=-1SU;BYMONTH=3
END:DAYLIGHT
BEGIN:STANDARD
TZOFFSETFROM:+0200
TZOFFSETTO:+0100
TZNAME:CET
DTSTART:19701025T030000
RRULE:FREQ=YEARLY;BYDAY=-1SU;BYMONTH=10
END:STANDARD
END:VTIMEZONE
BEGIN:VEVENT
DTEND;TZID=Europe/Berlin:20260527T113000
UID:69e78fc58725d
DTSTAMP:20260421T165501
LOCATION:Klosterringschule\, Bärengasse 8\, Stadtbezirk Villingen
DESCRIPTION:Hier lernst du\, dich zu schützen\, Gefahrensituationen frühzeitig zu erkennen und dich im Ernstfall angemessen zu verteidigen – beziehungsweise solche Situationen möglichst von vornherein zu\r\nvermeiden. Gleichzeitig stärkst du dein Selbstbewusstsein\r\nDurch theoretische und praktische Übungen trainieren wir  realistische Szenarien\, um ein sicheres und angemessenes Verhalten in Gefahrensituationen zu entwickeln. Der Fokus liegt auf realistischem und alltagstauglichem Selbstschutz sowie effektiver Selbstverteidigung.\r\n\r\nInhalte des Trainings:\r\n• Gefahrensituationen erkennen\r\n• Richtiges Verhalten in Gefahrensituationen\r\n• Eigene Stärken erkennen und nutzen\r\n• Effektive und praxisnahe Selbstschutz- und Selbstverteidigungstechniken\r\n\r\nBitte in Sportbekleidung (Hallenschuhe oder barfuß) kommen und etwas zum Trinken mitbringen.
URL;VALUE=URI:https://www.unser-ferienprogramm.de/villingen-schwenningen/veranstaltung.php?id=314744
SUMMARY:THE ART OF SELFDEFENSE – Die Kunst der Selbstverteidigung
DTSTART;TZID=Europe/Berlin:20260527T093000
END:VEVENT

END:VCALENDAR
