BEGIN:VCALENDAR
VERSION:2.0
PRODID:-//hacksw/handcal//NONSGML v1.0//EN
CALSCALE:GREGORIAN
BEGIN:VTIMEZONE
TZID:Europe/Berlin
X-LIC-LOCATION:Europe/Berlin
BEGIN:DAYLIGHT
TZOFFSETFROM:+0100
TZOFFSETTO:+0200
TZNAME:CEST
DTSTART:19700329T020000
RRULE:FREQ=YEARLY;BYDAY=-1SU;BYMONTH=3
END:DAYLIGHT
BEGIN:STANDARD
TZOFFSETFROM:+0200
TZOFFSETTO:+0100
TZNAME:CET
DTSTART:19701025T030000
RRULE:FREQ=YEARLY;BYDAY=-1SU;BYMONTH=10
END:STANDARD
END:VTIMEZONE
BEGIN:VEVENT
DTEND;TZID=Europe/Berlin:20260526T163000
UID:69e78d578c48f
DTSTAMP:20260421T164439
LOCATION:Tanzschule Seidel GmbH\, Vorderer Eckweg 26\, Stadtbezirk Villingen
DESCRIPTION:Mit einem täglichen Morgenritual starten wir in den Tag. Sie können Ihre Kinder zwischen 08:00-08:30 Uhr in die Tanzschule bringen und zwischen 16:00-16:30 Uhr wieder abholen.\r\nMit einem abwechslungsreichen Programm wird den Kindern nie langweilig\, dabei sind sie immer von ausgebildeten ADTV-Kindertanzlehrer/innen betreut.\r\n\r\nProgrammüberblick:\r\n-Tänze und Spiele\r\n-Spaß- und Sporteinheiten\r\n-Themenbasteln und -malen\r\n-Outdooraktivitäten je nach Wetter (bitte immer entsprechende Outdoorbekleidung mitbringen)\r\n\r\nIm Preis inbegriffen:\r\n-Tanz-\, Spiel- und Actionaktionen mit ausgebildeten ADTV-Kindertanzlehrerinnen\r\n-Ganztagesbetreuung der Kinder\r\n-Getränke: Wasser & Tee (versch. Sorten\, warm & kalt)\r\n-Frühstück/Nachmittag: Toast + Brezel\, versch. Aufstrich\, Obst\, Müsli\, etc.\r\n-Wechselndes\, warmes Mittagessen (auf Wunsch auch vegetarisch)\r\n\r\nFür Tanzschul-Mitglieder: € 129\,00 pro Kind (€ 15\,00 Rabatt wird bei der Bearbeitung abgezogen\, nachdem die Mitgliedschaft überprüft wurde.)\r\n\r\n\r\n\r\n
URL;VALUE=URI:https://www.unser-ferienprogramm.de/villingen-schwenningen/veranstaltung.php?id=314643
SUMMARY:Tänzerische & rhythmische & spielerische Ganztagesbetreuung in den Pfingstferien
DTSTART;TZID=Europe/Berlin:20260526T080000
END:VEVENT


BEGIN:VEVENT
DTEND;TZID=Europe/Berlin:20260527T163000
UID:69e78d578c4ce1
DTSTAMP:20260421T164439
LOCATION:Tanzschule Seidel GmbH\, Vorderer Eckweg 26\, Stadtbezirk Villingen
DESCRIPTION:Mit einem täglichen Morgenritual starten wir in den Tag. Sie können Ihre Kinder zwischen 08:00-08:30 Uhr in die Tanzschule bringen und zwischen 16:00-16:30 Uhr wieder abholen.\r\nMit einem abwechslungsreichen Programm wird den Kindern nie langweilig\, dabei sind sie immer von ausgebildeten ADTV-Kindertanzlehrer/innen betreut.\r\n\r\nProgrammüberblick:\r\n-Tänze und Spiele\r\n-Spaß- und Sporteinheiten\r\n-Themenbasteln und -malen\r\n-Outdooraktivitäten je nach Wetter (bitte immer entsprechende Outdoorbekleidung mitbringen)\r\n\r\nIm Preis inbegriffen:\r\n-Tanz-\, Spiel- und Actionaktionen mit ausgebildeten ADTV-Kindertanzlehrerinnen\r\n-Ganztagesbetreuung der Kinder\r\n-Getränke: Wasser & Tee (versch. Sorten\, warm & kalt)\r\n-Frühstück/Nachmittag: Toast + Brezel\, versch. Aufstrich\, Obst\, Müsli\, etc.\r\n-Wechselndes\, warmes Mittagessen (auf Wunsch auch vegetarisch)\r\n\r\nFür Tanzschul-Mitglieder: € 129\,00 pro Kind (€ 15\,00 Rabatt wird bei der Bearbeitung abgezogen\, nachdem die Mitgliedschaft überprüft wurde.)\r\n\r\n\r\n\r\n
URL;VALUE=URI:https://www.unser-ferienprogramm.de/villingen-schwenningen/veranstaltung.php?id=314643
SUMMARY:Tänzerische & rhythmische & spielerische Ganztagesbetreuung in den Pfingstferien
DTSTART;TZID=Europe/Berlin:20260527T080000
END:VEVENT


BEGIN:VEVENT
DTEND;TZID=Europe/Berlin:20260528T163000
UID:69e78d578c4e12
DTSTAMP:20260421T164439
LOCATION:Tanzschule Seidel GmbH\, Vorderer Eckweg 26\, Stadtbezirk Villingen
DESCRIPTION:Mit einem täglichen Morgenritual starten wir in den Tag. Sie können Ihre Kinder zwischen 08:00-08:30 Uhr in die Tanzschule bringen und zwischen 16:00-16:30 Uhr wieder abholen.\r\nMit einem abwechslungsreichen Programm wird den Kindern nie langweilig\, dabei sind sie immer von ausgebildeten ADTV-Kindertanzlehrer/innen betreut.\r\n\r\nProgrammüberblick:\r\n-Tänze und Spiele\r\n-Spaß- und Sporteinheiten\r\n-Themenbasteln und -malen\r\n-Outdooraktivitäten je nach Wetter (bitte immer entsprechende Outdoorbekleidung mitbringen)\r\n\r\nIm Preis inbegriffen:\r\n-Tanz-\, Spiel- und Actionaktionen mit ausgebildeten ADTV-Kindertanzlehrerinnen\r\n-Ganztagesbetreuung der Kinder\r\n-Getränke: Wasser & Tee (versch. Sorten\, warm & kalt)\r\n-Frühstück/Nachmittag: Toast + Brezel\, versch. Aufstrich\, Obst\, Müsli\, etc.\r\n-Wechselndes\, warmes Mittagessen (auf Wunsch auch vegetarisch)\r\n\r\nFür Tanzschul-Mitglieder: € 129\,00 pro Kind (€ 15\,00 Rabatt wird bei der Bearbeitung abgezogen\, nachdem die Mitgliedschaft überprüft wurde.)\r\n\r\n\r\n\r\n
URL;VALUE=URI:https://www.unser-ferienprogramm.de/villingen-schwenningen/veranstaltung.php?id=314643
SUMMARY:Tänzerische & rhythmische & spielerische Ganztagesbetreuung in den Pfingstferien
DTSTART;TZID=Europe/Berlin:20260528T080000
END:VEVENT


BEGIN:VEVENT
DTEND;TZID=Europe/Berlin:20260529T163000
UID:69e78d578c4f13
DTSTAMP:20260421T164439
LOCATION:Tanzschule Seidel GmbH\, Vorderer Eckweg 26\, Stadtbezirk Villingen
DESCRIPTION:Mit einem täglichen Morgenritual starten wir in den Tag. Sie können Ihre Kinder zwischen 08:00-08:30 Uhr in die Tanzschule bringen und zwischen 16:00-16:30 Uhr wieder abholen.\r\nMit einem abwechslungsreichen Programm wird den Kindern nie langweilig\, dabei sind sie immer von ausgebildeten ADTV-Kindertanzlehrer/innen betreut.\r\n\r\nProgrammüberblick:\r\n-Tänze und Spiele\r\n-Spaß- und Sporteinheiten\r\n-Themenbasteln und -malen\r\n-Outdooraktivitäten je nach Wetter (bitte immer entsprechende Outdoorbekleidung mitbringen)\r\n\r\nIm Preis inbegriffen:\r\n-Tanz-\, Spiel- und Actionaktionen mit ausgebildeten ADTV-Kindertanzlehrerinnen\r\n-Ganztagesbetreuung der Kinder\r\n-Getränke: Wasser & Tee (versch. Sorten\, warm & kalt)\r\n-Frühstück/Nachmittag: Toast + Brezel\, versch. Aufstrich\, Obst\, Müsli\, etc.\r\n-Wechselndes\, warmes Mittagessen (auf Wunsch auch vegetarisch)\r\n\r\nFür Tanzschul-Mitglieder: € 129\,00 pro Kind (€ 15\,00 Rabatt wird bei der Bearbeitung abgezogen\, nachdem die Mitgliedschaft überprüft wurde.)\r\n\r\n\r\n\r\n
URL;VALUE=URI:https://www.unser-ferienprogramm.de/villingen-schwenningen/veranstaltung.php?id=314643
SUMMARY:Tänzerische & rhythmische & spielerische Ganztagesbetreuung in den Pfingstferien
DTSTART;TZID=Europe/Berlin:20260529T080000
END:VEVENT

END:VCALENDAR
