BEGIN:VCALENDAR
VERSION:2.0
PRODID:-//hacksw/handcal//NONSGML v1.0//EN
CALSCALE:GREGORIAN
BEGIN:VTIMEZONE
TZID:Europe/Berlin
X-LIC-LOCATION:Europe/Berlin
BEGIN:DAYLIGHT
TZOFFSETFROM:+0100
TZOFFSETTO:+0200
TZNAME:CEST
DTSTART:19700329T020000
RRULE:FREQ=YEARLY;BYDAY=-1SU;BYMONTH=3
END:DAYLIGHT
BEGIN:STANDARD
TZOFFSETFROM:+0200
TZOFFSETTO:+0100
TZNAME:CET
DTSTART:19701025T030000
RRULE:FREQ=YEARLY;BYDAY=-1SU;BYMONTH=10
END:STANDARD
END:VTIMEZONE
BEGIN:VEVENT
DTEND;TZID=Europe/Berlin:20260602T171500
UID:69e7a3c4666a0
DTSTAMP:20260421T182020
LOCATION:Studio GymDance\, Vockenhauser Str. 4\, Stadtbezirk Villingen
DESCRIPTION:Kraft und Eleganz mit hohem Spaßfaktor. Lerne bei uns einen tollen Sport an der vertikalen Stange kennen. Eine Mischung aus Tanz\, Akrobatik und auch Zirkuselementen in Einem. \r\n\r\nBitte mitbringen: kurze Hose\, Socken oder Barfuß\, ein Handtuch und etwas zu Trinken.\r\n\r\n
URL;VALUE=URI:https://www.unser-ferienprogramm.de/villingen-schwenningen/veranstaltung.php?id=309502
SUMMARY:Pole Fitness 
DTSTART;TZID=Europe/Berlin:20260602T161500
END:VEVENT

END:VCALENDAR
