BEGIN:VCALENDAR
VERSION:2.0
PRODID:-//hacksw/handcal//NONSGML v1.0//EN
CALSCALE:GREGORIAN
BEGIN:VTIMEZONE
TZID:Europe/Berlin
X-LIC-LOCATION:Europe/Berlin
BEGIN:DAYLIGHT
TZOFFSETFROM:+0100
TZOFFSETTO:+0200
TZNAME:CEST
DTSTART:19700329T020000
RRULE:FREQ=YEARLY;BYDAY=-1SU;BYMONTH=3
END:DAYLIGHT
BEGIN:STANDARD
TZOFFSETFROM:+0200
TZOFFSETTO:+0100
TZNAME:CET
DTSTART:19701025T030000
RRULE:FREQ=YEARLY;BYDAY=-1SU;BYMONTH=10
END:STANDARD
END:VTIMEZONE
BEGIN:VEVENT
DTEND;TZID=Europe/Berlin:20260526T170000
UID:69e79319b83fb
DTSTAMP:20260421T170913
LOCATION:Studio GymDance\, Vockenhauserstraße 4\, Stadtbezirk Villingen
DESCRIPTION:Coole Moves\, Neue Styles!\r\nTanztraining in dem ihr coole Choreos zu aktueller Musik aus den Charts erlernt. Tanzen wie die Stars! Gemeinsam Spaß an Bewegung und Tanzen lernen!\r\n\r\nBitte mitbringen: bequeme Sportkleidung in der du dich gut bewegen kannst\, Socken / Schläppchen / Barfuß / oder Hallenschuhe und etwas zu Trinken\r\n\r\n\r\n\r\n
URL;VALUE=URI:https://www.unser-ferienprogramm.de/villingen-schwenningen/veranstaltung.php?id=309490
SUMMARY:HipHop
DTSTART;TZID=Europe/Berlin:20260526T160000
END:VEVENT

END:VCALENDAR
