BEGIN:VCALENDAR
VERSION:2.0
PRODID:-//hacksw/handcal//NONSGML v1.0//EN
CALSCALE:GREGORIAN
BEGIN:VTIMEZONE
TZID:Europe/Berlin
X-LIC-LOCATION:Europe/Berlin
BEGIN:DAYLIGHT
TZOFFSETFROM:+0100
TZOFFSETTO:+0200
TZNAME:CEST
DTSTART:19700329T020000
RRULE:FREQ=YEARLY;BYDAY=-1SU;BYMONTH=3
END:DAYLIGHT
BEGIN:STANDARD
TZOFFSETFROM:+0200
TZOFFSETTO:+0100
TZNAME:CET
DTSTART:19701025T030000
RRULE:FREQ=YEARLY;BYDAY=-1SU;BYMONTH=10
END:STANDARD
END:VTIMEZONE
BEGIN:VEVENT
DTEND;TZID=Europe/Berlin:20260526T140000
UID:69e79480c0f8c
DTSTAMP:20260421T171512
LOCATION:Jugendhaus K3\, Kalkofenstraße 3a\, Stadtbezirk Villingen
DESCRIPTION:Auf die Plätze\, fertig\, Spaß!\r\n\r\nBei der großen K3-Olympiade im Jugendhaus K3 wird gelacht\, gerannt\, geworfen!\r\nEuch erwarten lustige Disziplinen\, spannende Challenges und eine Menge Action. \r\n\r\nOb Super-Sprinter\, Zielwurf-Profi oder Spaß-Champion - hier kann jeder mitmachen und das eigene Können unter Beweis stellen! Spaß und gute Laune stehen natürlich an erster Stelle und werden am Ende mit der K3-GuteLaune-Urkunde belohnt! \r\n\r\nFrühstück und Getränke bekommt ihr von uns. Bitte bringt für das Mittagessen ein eigenes Vesper mit.\r\n\r\nBitte mitbringen:\r\n- Vesper für das Mittagessen\r\n- Informationen über bekannte Allergien und ggf. Notfallmedizin\r\n\r\n\r\n
URL;VALUE=URI:https://www.unser-ferienprogramm.de/villingen-schwenningen/veranstaltung.php?id=161695
SUMMARY:*Ferienbetreuung im K3 – K3-Olympiade
DTSTART;TZID=Europe/Berlin:20260526T080000
END:VEVENT

END:VCALENDAR
