BEGIN:VCALENDAR
VERSION:2.0
PRODID:-//hacksw/handcal//NONSGML v1.0//EN
CALSCALE:GREGORIAN
BEGIN:VTIMEZONE
TZID:Europe/Berlin
X-LIC-LOCATION:Europe/Berlin
BEGIN:DAYLIGHT
TZOFFSETFROM:+0100
TZOFFSETTO:+0200
TZNAME:CEST
DTSTART:19700329T020000
RRULE:FREQ=YEARLY;BYDAY=-1SU;BYMONTH=3
END:DAYLIGHT
BEGIN:STANDARD
TZOFFSETFROM:+0200
TZOFFSETTO:+0100
TZNAME:CET
DTSTART:19701025T030000
RRULE:FREQ=YEARLY;BYDAY=-1SU;BYMONTH=10
END:STANDARD
END:VTIMEZONE
BEGIN:VEVENT
DTEND;TZID=Europe/Berlin:20260526T154500
UID:69e79011d9d9a
DTSTAMP:20260421T165617
LOCATION:Sportanlage FC Brigachtal\, in den Rainen 20\, Brigachtal
DESCRIPTION:Wenn Fußball deine Welt ist\, dann bist du hier genau richtig! Beim FUSSBALLCAMP erlebst du drei abwechslungsreiche Tage rund um den Ball. Folgendes erwartet dich:\r\n- 3 Tage jeweils 4 Stunden Fußball-Techniktraining\r\n- warmes Mittagessen\, Obst & Getränke\r\n- fußballspez. Koordinationstraining zur Förderung der Elastizität des gesamten Bewegungsapparates\r\n- separate Mädchengruppe möglich\r\n- Wettkampf mit der Ballspeed-Anlage\r\n- Trainingsgerät Soccerwave\r\n- Betreuung in der Mittagspause\r\n- Speed-Soccercourt\r\n- Fußball-Dart\r\n- evtl. Probetraining bei einem Bundesligisten\r\n\r\nFeldspieler: Wir bieten euch gezieltes Training zur Verbesserung eurer technischen Fähigkeiten. Da die Gruppen am ersten Tag nach Können und Alter eingestuft werden\, kann so ein besonders leistungsgerechtes und angepasstes Sondertraining vermittelt werden. Zudem besteht die Möglichkeit\, aufgrund der sehr guten Beziehungen zu verschiedenen Bundesligisten\, dass der Campchamp 2026 zu einem Porbetraining vermittelt werden kann.\r\n\r\nTorhüter: Da es sich meist um kleinere Gruppen handelt\, ist das spezielle Training sehr intensiv gestaltet. Vorkenntnisse wären sinnvoll.\r\n\r\nIm Teilnehmerpaket ist ein uhlsport CAMP-TRIKOT & ein Ball enthalten.\r\n\r\n
URL;VALUE=URI:https://www.unser-ferienprogramm.de/villingen-schwenningen/veranstaltung.php?id=122883
SUMMARY:FUßBALLCAMP
DTSTART;TZID=Europe/Berlin:20260526T100000
END:VEVENT


BEGIN:VEVENT
DTEND;TZID=Europe/Berlin:20260527T154500
UID:69e79011d9ddf1
DTSTAMP:20260421T165617
LOCATION:Sportanlage FC Brigachtal\, in den Rainen 20\, Brigachtal
DESCRIPTION:Wenn Fußball deine Welt ist\, dann bist du hier genau richtig! Beim FUSSBALLCAMP erlebst du drei abwechslungsreiche Tage rund um den Ball. Folgendes erwartet dich:\r\n- 3 Tage jeweils 4 Stunden Fußball-Techniktraining\r\n- warmes Mittagessen\, Obst & Getränke\r\n- fußballspez. Koordinationstraining zur Förderung der Elastizität des gesamten Bewegungsapparates\r\n- separate Mädchengruppe möglich\r\n- Wettkampf mit der Ballspeed-Anlage\r\n- Trainingsgerät Soccerwave\r\n- Betreuung in der Mittagspause\r\n- Speed-Soccercourt\r\n- Fußball-Dart\r\n- evtl. Probetraining bei einem Bundesligisten\r\n\r\nFeldspieler: Wir bieten euch gezieltes Training zur Verbesserung eurer technischen Fähigkeiten. Da die Gruppen am ersten Tag nach Können und Alter eingestuft werden\, kann so ein besonders leistungsgerechtes und angepasstes Sondertraining vermittelt werden. Zudem besteht die Möglichkeit\, aufgrund der sehr guten Beziehungen zu verschiedenen Bundesligisten\, dass der Campchamp 2026 zu einem Porbetraining vermittelt werden kann.\r\n\r\nTorhüter: Da es sich meist um kleinere Gruppen handelt\, ist das spezielle Training sehr intensiv gestaltet. Vorkenntnisse wären sinnvoll.\r\n\r\nIm Teilnehmerpaket ist ein uhlsport CAMP-TRIKOT & ein Ball enthalten.\r\n\r\n
URL;VALUE=URI:https://www.unser-ferienprogramm.de/villingen-schwenningen/veranstaltung.php?id=122883
SUMMARY:FUßBALLCAMP
DTSTART;TZID=Europe/Berlin:20260527T100000
END:VEVENT


BEGIN:VEVENT
DTEND;TZID=Europe/Berlin:20260528T154500
UID:69e79011d9df32
DTSTAMP:20260421T165617
LOCATION:Sportanlage FC Brigachtal\, in den Rainen 20\, Brigachtal
DESCRIPTION:Wenn Fußball deine Welt ist\, dann bist du hier genau richtig! Beim FUSSBALLCAMP erlebst du drei abwechslungsreiche Tage rund um den Ball. Folgendes erwartet dich:\r\n- 3 Tage jeweils 4 Stunden Fußball-Techniktraining\r\n- warmes Mittagessen\, Obst & Getränke\r\n- fußballspez. Koordinationstraining zur Förderung der Elastizität des gesamten Bewegungsapparates\r\n- separate Mädchengruppe möglich\r\n- Wettkampf mit der Ballspeed-Anlage\r\n- Trainingsgerät Soccerwave\r\n- Betreuung in der Mittagspause\r\n- Speed-Soccercourt\r\n- Fußball-Dart\r\n- evtl. Probetraining bei einem Bundesligisten\r\n\r\nFeldspieler: Wir bieten euch gezieltes Training zur Verbesserung eurer technischen Fähigkeiten. Da die Gruppen am ersten Tag nach Können und Alter eingestuft werden\, kann so ein besonders leistungsgerechtes und angepasstes Sondertraining vermittelt werden. Zudem besteht die Möglichkeit\, aufgrund der sehr guten Beziehungen zu verschiedenen Bundesligisten\, dass der Campchamp 2026 zu einem Porbetraining vermittelt werden kann.\r\n\r\nTorhüter: Da es sich meist um kleinere Gruppen handelt\, ist das spezielle Training sehr intensiv gestaltet. Vorkenntnisse wären sinnvoll.\r\n\r\nIm Teilnehmerpaket ist ein uhlsport CAMP-TRIKOT & ein Ball enthalten.\r\n\r\n
URL;VALUE=URI:https://www.unser-ferienprogramm.de/villingen-schwenningen/veranstaltung.php?id=122883
SUMMARY:FUßBALLCAMP
DTSTART;TZID=Europe/Berlin:20260528T100000
END:VEVENT

END:VCALENDAR
