BEGIN:VCALENDAR
VERSION:2.0
PRODID:-//hacksw/handcal//NONSGML v1.0//EN
CALSCALE:GREGORIAN
BEGIN:VTIMEZONE
TZID:Europe/Berlin
X-LIC-LOCATION:Europe/Berlin
BEGIN:DAYLIGHT
TZOFFSETFROM:+0100
TZOFFSETTO:+0200
TZNAME:CEST
DTSTART:19700329T020000
RRULE:FREQ=YEARLY;BYDAY=-1SU;BYMONTH=3
END:DAYLIGHT
BEGIN:STANDARD
TZOFFSETFROM:+0200
TZOFFSETTO:+0100
TZNAME:CET
DTSTART:19701025T030000
RRULE:FREQ=YEARLY;BYDAY=-1SU;BYMONTH=10
END:STANDARD
END:VTIMEZONE
BEGIN:VEVENT
DTEND;TZID=Europe/Berlin:20260526T130000
UID:69e790213fd15
DTSTAMP:20260421T165633
LOCATION:blocwald boulderzentrum VS
DESCRIPTION:Sportlicher Ferienspaß für alle Kinder\, die höher hinauswollen!\r\nBei uns erwartet euch ein abwechslungsreiches Programm. Durch verschiedene Challenges und Spiele wird euch das Bouldern durch unsere Trainer:innen nähergebracht. Dabei stehen die Grundtechniken\, sicheres Klettern und natürlich viel Spaß und Bewegung im Mittelpunkt. \r\n\r\nDie Betreuung startet jeweils um 09:00 Uhr und endet um 13:00 Uhr. \r\nBitte seid frühestens 10 Minuten vor Veranstaltungsbeginn vor Ort. \r\n\r\nZwischendurch machen wir eine Vesperpause zum Verschnaufen – bitte also etwas Proviant zur Stärkung einpacken. \r\n\r\nFolgendes sollte mitgebracht werden:\r\n- Bequeme Sportkleidung\r\n- Turnschuhe\r\n- Handtuch\r\n- Trinken\r\n- Vesper\r\n- Einverständniserklärung unterzeichnet von einem Elternteil. Steht zum Download zur Verfügung  (Infomaterial) oder einfach am ersten Tag vor Ort unterzeichnen.\r\n\r\n\r\n\r\n\r\n
URL;VALUE=URI:https://www.unser-ferienprogramm.de/villingen-schwenningen/veranstaltung.php?id=120164
SUMMARY:Bouldern in den Pfingstferien
DTSTART;TZID=Europe/Berlin:20260526T090000
END:VEVENT


BEGIN:VEVENT
DTEND;TZID=Europe/Berlin:20260527T130000
UID:69e790213fd331
DTSTAMP:20260421T165633
LOCATION:blocwald boulderzentrum VS
DESCRIPTION:Sportlicher Ferienspaß für alle Kinder\, die höher hinauswollen!\r\nBei uns erwartet euch ein abwechslungsreiches Programm. Durch verschiedene Challenges und Spiele wird euch das Bouldern durch unsere Trainer:innen nähergebracht. Dabei stehen die Grundtechniken\, sicheres Klettern und natürlich viel Spaß und Bewegung im Mittelpunkt. \r\n\r\nDie Betreuung startet jeweils um 09:00 Uhr und endet um 13:00 Uhr. \r\nBitte seid frühestens 10 Minuten vor Veranstaltungsbeginn vor Ort. \r\n\r\nZwischendurch machen wir eine Vesperpause zum Verschnaufen – bitte also etwas Proviant zur Stärkung einpacken. \r\n\r\nFolgendes sollte mitgebracht werden:\r\n- Bequeme Sportkleidung\r\n- Turnschuhe\r\n- Handtuch\r\n- Trinken\r\n- Vesper\r\n- Einverständniserklärung unterzeichnet von einem Elternteil. Steht zum Download zur Verfügung  (Infomaterial) oder einfach am ersten Tag vor Ort unterzeichnen.\r\n\r\n\r\n\r\n\r\n
URL;VALUE=URI:https://www.unser-ferienprogramm.de/villingen-schwenningen/veranstaltung.php?id=120164
SUMMARY:Bouldern in den Pfingstferien
DTSTART;TZID=Europe/Berlin:20260527T090000
END:VEVENT


BEGIN:VEVENT
DTEND;TZID=Europe/Berlin:20260528T130000
UID:69e790213fd452
DTSTAMP:20260421T165633
LOCATION:blocwald boulderzentrum VS
DESCRIPTION:Sportlicher Ferienspaß für alle Kinder\, die höher hinauswollen!\r\nBei uns erwartet euch ein abwechslungsreiches Programm. Durch verschiedene Challenges und Spiele wird euch das Bouldern durch unsere Trainer:innen nähergebracht. Dabei stehen die Grundtechniken\, sicheres Klettern und natürlich viel Spaß und Bewegung im Mittelpunkt. \r\n\r\nDie Betreuung startet jeweils um 09:00 Uhr und endet um 13:00 Uhr. \r\nBitte seid frühestens 10 Minuten vor Veranstaltungsbeginn vor Ort. \r\n\r\nZwischendurch machen wir eine Vesperpause zum Verschnaufen – bitte also etwas Proviant zur Stärkung einpacken. \r\n\r\nFolgendes sollte mitgebracht werden:\r\n- Bequeme Sportkleidung\r\n- Turnschuhe\r\n- Handtuch\r\n- Trinken\r\n- Vesper\r\n- Einverständniserklärung unterzeichnet von einem Elternteil. Steht zum Download zur Verfügung  (Infomaterial) oder einfach am ersten Tag vor Ort unterzeichnen.\r\n\r\n\r\n\r\n\r\n
URL;VALUE=URI:https://www.unser-ferienprogramm.de/villingen-schwenningen/veranstaltung.php?id=120164
SUMMARY:Bouldern in den Pfingstferien
DTSTART;TZID=Europe/Berlin:20260528T090000
END:VEVENT


BEGIN:VEVENT
DTEND;TZID=Europe/Berlin:20260529T130000
UID:69e790213fd533
DTSTAMP:20260421T165633
LOCATION:blocwald boulderzentrum VS
DESCRIPTION:Sportlicher Ferienspaß für alle Kinder\, die höher hinauswollen!\r\nBei uns erwartet euch ein abwechslungsreiches Programm. Durch verschiedene Challenges und Spiele wird euch das Bouldern durch unsere Trainer:innen nähergebracht. Dabei stehen die Grundtechniken\, sicheres Klettern und natürlich viel Spaß und Bewegung im Mittelpunkt. \r\n\r\nDie Betreuung startet jeweils um 09:00 Uhr und endet um 13:00 Uhr. \r\nBitte seid frühestens 10 Minuten vor Veranstaltungsbeginn vor Ort. \r\n\r\nZwischendurch machen wir eine Vesperpause zum Verschnaufen – bitte also etwas Proviant zur Stärkung einpacken. \r\n\r\nFolgendes sollte mitgebracht werden:\r\n- Bequeme Sportkleidung\r\n- Turnschuhe\r\n- Handtuch\r\n- Trinken\r\n- Vesper\r\n- Einverständniserklärung unterzeichnet von einem Elternteil. Steht zum Download zur Verfügung  (Infomaterial) oder einfach am ersten Tag vor Ort unterzeichnen.\r\n\r\n\r\n\r\n\r\n
URL;VALUE=URI:https://www.unser-ferienprogramm.de/villingen-schwenningen/veranstaltung.php?id=120164
SUMMARY:Bouldern in den Pfingstferien
DTSTART;TZID=Europe/Berlin:20260529T090000
END:VEVENT

END:VCALENDAR
