BEGIN:VCALENDAR
VERSION:2.0
PRODID:-//hacksw/handcal//NONSGML v1.0//EN
CALSCALE:GREGORIAN
BEGIN:VTIMEZONE
TZID:Europe/Berlin
X-LIC-LOCATION:Europe/Berlin
BEGIN:DAYLIGHT
TZOFFSETFROM:+0100
TZOFFSETTO:+0200
TZNAME:CEST
DTSTART:19700329T020000
RRULE:FREQ=YEARLY;BYDAY=-1SU;BYMONTH=3
END:DAYLIGHT
BEGIN:STANDARD
TZOFFSETFROM:+0200
TZOFFSETTO:+0100
TZNAME:CET
DTSTART:19701025T030000
RRULE:FREQ=YEARLY;BYDAY=-1SU;BYMONTH=10
END:STANDARD
END:VTIMEZONE
BEGIN:VEVENT
DTEND;TZID=Europe/Berlin:20250812T140000
UID:69e5fcebeb504
DTSTAMP:20260420T121611
LOCATION:
DESCRIPTION:Hier bist du genau richtig\, um deine Skills an Wakeboard\, Wakeskate\, Kneeboard oder Wasserski auszutesten oder einfach die Sonne zu genießen und dem Trubel auf dem See zu zuschauen. Bei der Wahl des richtigen Materials steht dir unser Team mit Rat und Tat zur Seite. Egal\, ob du voll ausgestattet oder noch unausgerüstet bist und deine ersten Erfahrungen mit diesem Traumsport machen möchtest. 
URL;VALUE=URI:https://www.unser-ferienprogramm.de/vg-lisberg/veranstaltung.php?id=283812
SUMMARY:WakePark
DTSTART;TZID=Europe/Berlin:20250812T093000
END:VEVENT

END:VCALENDAR
