BEGIN:VCALENDAR
VERSION:2.0
PRODID:-//hacksw/handcal//NONSGML v1.0//EN
CALSCALE:GREGORIAN
BEGIN:VTIMEZONE
TZID:Europe/Berlin
X-LIC-LOCATION:Europe/Berlin
BEGIN:DAYLIGHT
TZOFFSETFROM:+0100
TZOFFSETTO:+0200
TZNAME:CEST
DTSTART:19700329T020000
RRULE:FREQ=YEARLY;BYDAY=-1SU;BYMONTH=3
END:DAYLIGHT
BEGIN:STANDARD
TZOFFSETFROM:+0200
TZOFFSETTO:+0100
TZNAME:CET
DTSTART:19701025T030000
RRULE:FREQ=YEARLY;BYDAY=-1SU;BYMONTH=10
END:STANDARD
END:VTIMEZONE
BEGIN:VEVENT
DTEND;TZID=Europe/Berlin:20250806T180000
UID:69e5fd2b332be
DTSTAMP:20260420T121715
LOCATION:Fähre Pettstadt
DESCRIPTION:Gemeinsam werden wir durch Matsch und Schlamm wälzen\, im hohen Gras rennen und Fitnessübungen im Freien machen! Danach werdet ihr ausgelaugt\, dreckig und sehr stolz auf euch sein! Und das wichtigste: Wir lassen keinen zurück! Wir starten gemeinsam und kommen gemeinsam am Ziel an! Wir wachsen Gemeinsam an unseren Herausforderungen und Aufgaben.  Eine kleine Brotzeit wird euch gestellt. Diesmal gehen wir auch wirklich ins Wasser!! Aber sowas von!
URL;VALUE=URI:https://www.unser-ferienprogramm.de/vg-lisberg/veranstaltung.php?id=282851
SUMMARY:Bootcamp für Kids
DTSTART;TZID=Europe/Berlin:20250806T140000
END:VEVENT

END:VCALENDAR
