BEGIN:VCALENDAR
VERSION:2.0
PRODID:-//hacksw/handcal//NONSGML v1.0//EN
CALSCALE:GREGORIAN
BEGIN:VTIMEZONE
TZID:Europe/Berlin
X-LIC-LOCATION:Europe/Berlin
BEGIN:DAYLIGHT
TZOFFSETFROM:+0100
TZOFFSETTO:+0200
TZNAME:CEST
DTSTART:19700329T020000
RRULE:FREQ=YEARLY;BYDAY=-1SU;BYMONTH=3
END:DAYLIGHT
BEGIN:STANDARD
TZOFFSETFROM:+0200
TZOFFSETTO:+0100
TZNAME:CET
DTSTART:19701025T030000
RRULE:FREQ=YEARLY;BYDAY=-1SU;BYMONTH=10
END:STANDARD
END:VTIMEZONE
BEGIN:VEVENT
DTEND;TZID=Europe/Berlin:20250814T130000
UID:69e614a6061b4
DTSTAMP:20260420T135726
LOCATION:Trabelsdorf
DESCRIPTION:Bei Spiel und Spaß entdecken wir gemeinsam den wertvollen Lebensraum Streuobstwiese und seine spannenden tierischen und pflanzlichen Bewohner.
URL;VALUE=URI:https://www.unser-ferienprogramm.de/vg-lisberg/veranstaltung.php?id=230082
SUMMARY:Streuobsterlebnis
DTSTART;TZID=Europe/Berlin:20250814T100000
END:VEVENT

END:VCALENDAR
