BEGIN:VCALENDAR
VERSION:2.0
PRODID:-//hacksw/handcal//NONSGML v1.0//EN
CALSCALE:GREGORIAN
BEGIN:VTIMEZONE
TZID:Europe/Berlin
X-LIC-LOCATION:Europe/Berlin
BEGIN:DAYLIGHT
TZOFFSETFROM:+0100
TZOFFSETTO:+0200
TZNAME:CEST
DTSTART:19700329T020000
RRULE:FREQ=YEARLY;BYDAY=-1SU;BYMONTH=3
END:DAYLIGHT
BEGIN:STANDARD
TZOFFSETFROM:+0200
TZOFFSETTO:+0100
TZNAME:CET
DTSTART:19701025T030000
RRULE:FREQ=YEARLY;BYDAY=-1SU;BYMONTH=10
END:STANDARD
END:VTIMEZONE
BEGIN:VEVENT
DTEND;TZID=Europe/Berlin:20260811T123000
UID:69e6571bf3efe
DTSTAMP:20260420T184059
LOCATION:Malteser Bildungshaus St. Josef
DESCRIPTION:Instinktives und intuitives Bogenschießen fördert die Gesundheit von Körper\, Geist und Seele. Bereits im Kindesalter unterstützt es Koordination\, Konzentration und stärkt das Selbstbewusstsein. An diesem Schnupper-Vormittag sollen die jungen Schütz*innen mit Spiel und Spaß erste Eindrücke sammeln und den beliebten Bogensport ein wenig kennenlernen. Schwerpunkte dabei werden sein\, der verantwortungsbewusste Umgang mit Pfeil und Bogen\, die richtige Körperhaltung sowie Ruhe und Konzentration beim Schussablauf. Am Ende des Trainings bekommen alle eine Urkunde und ein Abzeichen der Malteser.
URL;VALUE=URI:https://www.unser-ferienprogramm.de/vg-aiterhofen/veranstaltung.php?id=256522
SUMMARY:Bogenschießen-Schnuppertag
DTSTART;TZID=Europe/Berlin:20260811T100000
END:VEVENT

END:VCALENDAR
