BEGIN:VCALENDAR
VERSION:2.0
PRODID:-//hacksw/handcal//NONSGML v1.0//EN
CALSCALE:GREGORIAN
BEGIN:VTIMEZONE
TZID:Europe/Berlin
X-LIC-LOCATION:Europe/Berlin
BEGIN:DAYLIGHT
TZOFFSETFROM:+0100
TZOFFSETTO:+0200
TZNAME:CEST
DTSTART:19700329T020000
RRULE:FREQ=YEARLY;BYDAY=-1SU;BYMONTH=3
END:DAYLIGHT
BEGIN:STANDARD
TZOFFSETFROM:+0200
TZOFFSETTO:+0100
TZNAME:CET
DTSTART:19701025T030000
RRULE:FREQ=YEARLY;BYDAY=-1SU;BYMONTH=10
END:STANDARD
END:VTIMEZONE
BEGIN:VEVENT
DTEND;TZID=Europe/Berlin:20260802T120000
UID:69e6572bc4330
DTSTAMP:20260420T184115
LOCATION:Malteser Bildungshaus St. Josef
DESCRIPTION:Handpuppe Ritter Malte erzählt Geschichten mit seinen Freunden\, was ihnen so passiert ist. Sie erklären wie sie Ihre Freunde trösten\, sich selbst helfen und schnell Hilfe holen können.\r\nZusätzlich gibt es bei uns Teamspiele rund ums Helfen\, Pflaster und Verbände anlegen\, wobei es um`s zusammenhalten geht. An diesem Tag kommt vermutlich noch ein Rettungswagen zur Besichtigung.
URL;VALUE=URI:https://www.unser-ferienprogramm.de/vg-aiterhofen/veranstaltung.php?id=256493
SUMMARY:Erste-Hilfe-Kurs für Kinder (Zahlung direkt beim Veranstalter)
DTSTART;TZID=Europe/Berlin:20260802T093000
END:VEVENT

END:VCALENDAR
