BEGIN:VCALENDAR
VERSION:2.0
PRODID:-//hacksw/handcal//NONSGML v1.0//EN
CALSCALE:GREGORIAN
BEGIN:VTIMEZONE
TZID:Europe/Berlin
X-LIC-LOCATION:Europe/Berlin
BEGIN:DAYLIGHT
TZOFFSETFROM:+0100
TZOFFSETTO:+0200
TZNAME:CEST
DTSTART:19700329T020000
RRULE:FREQ=YEARLY;BYDAY=-1SU;BYMONTH=3
END:DAYLIGHT
BEGIN:STANDARD
TZOFFSETFROM:+0200
TZOFFSETTO:+0100
TZNAME:CET
DTSTART:19701025T030000
RRULE:FREQ=YEARLY;BYDAY=-1SU;BYMONTH=10
END:STANDARD
END:VTIMEZONE
BEGIN:VEVENT
DTEND;TZID=Europe/Berlin:20260823T170000
UID:69e65751997df
DTSTAMP:20260420T184153
LOCATION:Feuerwehrgerätehaus Aiterhofen
DESCRIPTION:Zu Beginn lernen wir\, was es für Hydranten-Arten gibt und wie man diese erkennen und finden kann.\r\nDanach wird das Erlernte in einer Hydrantenrallye durchs Dorf angewendet. Zusammen werden Teamaufgaben gelöst und am Ziel setzen wir einen Hydranten in Betrieb.\r\nAm Ende wartet eine Belohnung!
URL;VALUE=URI:https://www.unser-ferienprogramm.de/vg-aiterhofen/veranstaltung.php?id=204200
SUMMARY:Hydrantenrallye (Zahlung direkt beim Veranstalter)
DTSTART;TZID=Europe/Berlin:20260823T140000
END:VEVENT

END:VCALENDAR
