BEGIN:VCALENDAR
VERSION:2.0
PRODID:-//hacksw/handcal//NONSGML v1.0//EN
CALSCALE:GREGORIAN
BEGIN:VTIMEZONE
TZID:Europe/Berlin
X-LIC-LOCATION:Europe/Berlin
BEGIN:DAYLIGHT
TZOFFSETFROM:+0100
TZOFFSETTO:+0200
TZNAME:CEST
DTSTART:19700329T020000
RRULE:FREQ=YEARLY;BYDAY=-1SU;BYMONTH=3
END:DAYLIGHT
BEGIN:STANDARD
TZOFFSETFROM:+0200
TZOFFSETTO:+0100
TZNAME:CET
DTSTART:19701025T030000
RRULE:FREQ=YEARLY;BYDAY=-1SU;BYMONTH=10
END:STANDARD
END:VTIMEZONE
BEGIN:VEVENT
DTEND;TZID=Europe/Berlin:20260807T170000
UID:69e657273b3d8
DTSTAMP:20260420T184111
LOCATION:Franz-Xaver-Hafner-Brücke
DESCRIPTION:Wie baut man Brücken? Wie lange sind sie haltbar? Wie sieht es im Inneren einer Brücke aus? Alles Fragen\, die bei dieser Aktion beantwortet werden können. Nach einer Radtour\, die in Aiterhofen startet\, wird das Innenleben der Franz-Xaver-Hafner-Brücke erkundet. Anschließend gibt es in Ainbrach ein kleines Picknick zur Stärkung bevor der Heimweg angetreten wird.
URL;VALUE=URI:https://www.unser-ferienprogramm.de/vg-aiterhofen/veranstaltung.php?id=204179
SUMMARY:Wir entdecken das Innenleben der Franz-Xaver-Hafner-Brücke
DTSTART;TZID=Europe/Berlin:20260807T110000
END:VEVENT

END:VCALENDAR
