BEGIN:VCALENDAR
VERSION:2.0
PRODID:-//hacksw/handcal//NONSGML v1.0//EN
CALSCALE:GREGORIAN
BEGIN:VTIMEZONE
TZID:Europe/Berlin
X-LIC-LOCATION:Europe/Berlin
BEGIN:DAYLIGHT
TZOFFSETFROM:+0100
TZOFFSETTO:+0200
TZNAME:CEST
DTSTART:19700329T020000
RRULE:FREQ=YEARLY;BYDAY=-1SU;BYMONTH=3
END:DAYLIGHT
BEGIN:STANDARD
TZOFFSETFROM:+0200
TZOFFSETTO:+0100
TZNAME:CET
DTSTART:19701025T030000
RRULE:FREQ=YEARLY;BYDAY=-1SU;BYMONTH=10
END:STANDARD
END:VTIMEZONE
BEGIN:VEVENT
DTEND;TZID=Europe/Berlin:20260809T120000
UID:69e656f65f9e7
DTSTAMP:20260420T184022
LOCATION:OGV Häusl Aiterhofen
DESCRIPTION:Gripsschärfungstrank\, Amortentia\, Murtlapessenz und vieles mehr wird in den Hallen Hogwarts gebraut. Was brauche ich für die Zaubergetränke und wie stelle ich sie her? Das wollen wir herausfinden\, indem wir einige Tränke nachbrauen.
URL;VALUE=URI:https://www.unser-ferienprogramm.de/vg-aiterhofen/veranstaltung.php?id=166434
SUMMARY:Zaubergetränke aus Hogwarts
DTSTART;TZID=Europe/Berlin:20260809T093000
END:VEVENT

END:VCALENDAR
