BEGIN:VCALENDAR
VERSION:2.0
PRODID:-//hacksw/handcal//NONSGML v1.0//EN
CALSCALE:GREGORIAN
BEGIN:VTIMEZONE
TZID:Europe/Berlin
X-LIC-LOCATION:Europe/Berlin
BEGIN:DAYLIGHT
TZOFFSETFROM:+0100
TZOFFSETTO:+0200
TZNAME:CEST
DTSTART:19700329T020000
RRULE:FREQ=YEARLY;BYDAY=-1SU;BYMONTH=3
END:DAYLIGHT
BEGIN:STANDARD
TZOFFSETFROM:+0200
TZOFFSETTO:+0100
TZNAME:CET
DTSTART:19701025T030000
RRULE:FREQ=YEARLY;BYDAY=-1SU;BYMONTH=10
END:STANDARD
END:VTIMEZONE
BEGIN:VEVENT
DTEND;TZID=Europe/Berlin:20260820T170000
UID:69e6571b1f845
DTSTAMP:20260420T184059
LOCATION:Bürger&Kultur-Treffpunkt Oberpiebing
DESCRIPTION:Die Wasserschutzpolizei Deggendorf gibt Einblicke in ihre tägliche Arbeit und stellt dabei das Boot und die Ausrüstung vor. Anschließend gibt es noch eine Bootsfahrt auf der Donau mit dem Boot der Wasserschutzpolizei.\r\nWir fahren mit Privat-PKW nach Deggendorf. \r\nNach der Rückkehr gibt es noch Verpflegung und Getränke.
URL;VALUE=URI:https://www.unser-ferienprogramm.de/vg-aiterhofen/veranstaltung.php?id=165358
SUMMARY:Unterwegs mit der Wasserschutzpolizei
DTSTART;TZID=Europe/Berlin:20260820T130000
END:VEVENT

END:VCALENDAR
